BEGIN:VCALENDAR
CALSCALE:GREGORIAN
PRODID:Data::ICal 0.05
VERSION:2.0
BEGIN:VTIMEZONE
TZID
 :/softwarestudio.org/Olson_20011030_5/America/Chicago
X-LIC-LOCATION
 :America/Chicago
BEGIN:STANDARD
TZOFFSETFROM
 :-050000
TZOFFSETTO
 :-060000
TZNAME
 :CST
DTSTART
 :19701025T020000
RRULE
 :FREQ=YEARLY;INTERVAL=1;BYDAY=-1SU;BYMONTH=10
END:STANDARD
BEGIN:DAYLIGHT
TZOFFSETFROM
 :-060000
TZOFFSETTO
 :-050000
TZNAME
 :CDT
DTSTART
 :19700405T020000
RRULE
 :FREQ=YEARLY;INTERVAL=1;BYDAY=1SU;BYMONTH=4
END:DAYLIGHT
END:VTIMEZONE
BEGIN:VEVENT
DTEND:20060830T150000
DTSTART:20060830T130000
LOCATION:102/106 PE
SUMMARY:Phys. 105 Lab: Sect 4
END:VEVENT
END:VCALENDAR
