BEGIN:VCALENDAR
PRODID:-//Mozilla.org/NONSGML Mozilla Calendar V1.1//EN
VERSION:2.0
BEGIN:VEVENT
CREATED:20120123T043013Z
LAST-MODIFIED:20120123T044223Z
DTSTAMP:20120123T044223Z
UID:1b873596-6e4d-4016-8bb7-9ebc4ee20810
SUMMARY:New Year's Day
CATEGORIES:Public Holiday
DTSTART;VALUE=DATE:20120101
DTEND;VALUE=DATE:20120102
TRANSP:TRANSPARENT
END:VEVENT
BEGIN:VEVENT
CREATED:20120123T041700Z
LAST-MODIFIED:20120123T044247Z
DTSTAMP:20120123T044247Z
UID:c0150e0b-4b84-4d5b-91e6-b7949f3a4e1e
SUMMARY:Australia Day
CATEGORIES:Public Holiday
DTSTART;VALUE=DATE:20120126
DTEND;VALUE=DATE:20120127
TRANSP:TRANSPARENT
END:VEVENT
BEGIN:VEVENT
CREATED:20120123T041817Z
LAST-MODIFIED:20120123T044309Z
DTSTAMP:20120123T044309Z
UID:7510b031-25c8-4292-afbd-2b4e23cae49a
SUMMARY:Valentines Day
CATEGORIES:Miscellaneous
DTSTART;VALUE=DATE:20120214
DTEND;VALUE=DATE:20120215
TRANSP:TRANSPARENT
X-MOZ-GENERATION:1
END:VEVENT
BEGIN:VEVENT
CREATED:20120123T044337Z
LAST-MODIFIED:20120123T044358Z
DTSTAMP:20120123T044358Z
UID:5f0e947a-a7e6-4476-a61f-f64b4703f23f
SUMMARY:Australian Grand Prix
CATEGORIES:Miscellaneous
DTSTART;VALUE=DATE:20120315
DTEND;VALUE=DATE:20120316
TRANSP:TRANSPARENT
END:VEVENT
BEGIN:VEVENT
CREATED:20120123T042019Z
LAST-MODIFIED:20120123T044413Z
DTSTAMP:20120123T044413Z
UID:cb0d291f-01be-4f18-9247-d86d1964f1fd
SUMMARY:Labour Day
CATEGORIES:Public Holiday
DTSTART;VALUE=DATE:20120312
DTEND;VALUE=DATE:20120313
TRANSP:TRANSPARENT
END:VEVENT
BEGIN:VEVENT
CREATED:20120123T042110Z
LAST-MODIFIED:20120123T044425Z
DTSTAMP:20120123T044425Z
UID:d0fce0dc-3570-4ce9-9889-94e8bda3a152
SUMMARY:St Patricks Day
CATEGORIES:Miscellaneous
DTSTART;VALUE=DATE:20120317
DTEND;VALUE=DATE:20120318
TRANSP:TRANSPARENT
END:VEVENT
BEGIN:VEVENT
CREATED:20120123T042212Z
LAST-MODIFIED:20120123T044508Z
DTSTAMP:20120123T044508Z
UID:424c0027-c676-4895-9629-8023dec5bbae
SUMMARY:Good Friday
CATEGORIES:Public Holiday
DTSTART;VALUE=DATE:20120406
DTEND;VALUE=DATE:20120407
TRANSP:TRANSPARENT
END:VEVENT
BEGIN:VEVENT
CREATED:20120123T042254Z
LAST-MODIFIED:20120123T044517Z
DTSTAMP:20120123T044517Z
UID:a55d66b7-3b7d-44be-9d8f-23b3cbc59bfe
SUMMARY:Easter Saturday
CATEGORIES:Public Holiday
DTSTART;VALUE=DATE:20120407
DTEND;VALUE=DATE:20120408
TRANSP:TRANSPARENT
END:VEVENT
BEGIN:VEVENT
CREATED:20120123T042321Z
LAST-MODIFIED:20120123T044526Z
DTSTAMP:20120123T044526Z
UID:5e217e81-85b3-4c4f-9506-cbb55ed6c2c4
SUMMARY:Easter Sunday
CATEGORIES:Public Holiday
DTSTART;VALUE=DATE:20120408
DTEND;VALUE=DATE:20120409
TRANSP:TRANSPARENT
END:VEVENT
BEGIN:VEVENT
CREATED:20120123T042403Z
LAST-MODIFIED:20120123T044535Z
DTSTAMP:20120123T044535Z
UID:1f631a1b-219c-49ae-88de-0932e3617e1f
SUMMARY:Easter Monday
CATEGORIES:Public Holiday
DTSTART;VALUE=DATE:20120409
DTEND;VALUE=DATE:20120410
TRANSP:TRANSPARENT
END:VEVENT
BEGIN:VEVENT
CREATED:20120123T042445Z
LAST-MODIFIED:20120123T044547Z
DTSTAMP:20120123T044547Z
UID:900769c1-693f-410d-931f-93eec5aabaff
SUMMARY:Anzac Day
CATEGORIES:Public Holiday
DTSTART;VALUE=DATE:20120425
DTEND;VALUE=DATE:20120426
TRANSP:TRANSPARENT
END:VEVENT
BEGIN:VEVENT
CREATED:20120123T042521Z
LAST-MODIFIED:20120123T044559Z
DTSTAMP:20120123T044559Z
UID:94df97a2-50eb-4e62-8434-40f62ef7ef7d
SUMMARY:Mother's Day
CATEGORIES:Miscellaneous
DTSTART;VALUE=DATE:20120513
DTEND;VALUE=DATE:20120514
TRANSP:TRANSPARENT
END:VEVENT
BEGIN:VEVENT
CREATED:20120123T042559Z
LAST-MODIFIED:20120123T044609Z
DTSTAMP:20120123T044609Z
UID:7133e8bd-35ab-44b0-81cc-000ebf5dcd72
SUMMARY:Queen's Birthday
CATEGORIES:Public Holiday
DTSTART;VALUE=DATE:20120611
DTEND;VALUE=DATE:20120612
TRANSP:TRANSPARENT
END:VEVENT
BEGIN:VEVENT
CREATED:20120123T042729Z
LAST-MODIFIED:20120123T044746Z
DTSTAMP:20120123T044746Z
UID:2034973c-8b84-4bec-ae1c-8dafae7c199a
SUMMARY:Halloween
CATEGORIES:Miscellaneous
DTSTART;VALUE=DATE:20121031
DTEND;VALUE=DATE:20121101
TRANSP:TRANSPARENT
END:VEVENT
BEGIN:VEVENT
CREATED:20120123T042759Z
LAST-MODIFIED:20120123T044808Z
DTSTAMP:20120123T044808Z
UID:d6286189-a468-426d-b7d9-393ecaeb77c8
SUMMARY:Melbourne Cup Day
CATEGORIES:Public Holiday
DTSTART;VALUE=DATE:20121106
DTEND;VALUE=DATE:20121107
TRANSP:TRANSPARENT
END:VEVENT
BEGIN:VEVENT
CREATED:20120123T042835Z
LAST-MODIFIED:20120123T044821Z
DTSTAMP:20120123T044821Z
UID:a32265bb-6058-4a0c-b88d-6ced2c490359
SUMMARY:Christmas Day
CATEGORIES:Public Holiday
DTSTART;VALUE=DATE:20121225
DTEND;VALUE=DATE:20121226
TRANSP:TRANSPARENT
END:VEVENT
BEGIN:VEVENT
CREATED:20120123T042859Z
LAST-MODIFIED:20120123T044831Z
DTSTAMP:20120123T044831Z
UID:d611a4ca-7653-4af7-916f-6633659cb9a2
SUMMARY:Boxing Day
CATEGORIES:Public Holiday
DTSTART;VALUE=DATE:20121226
DTEND;VALUE=DATE:20121227
TRANSP:TRANSPARENT
END:VEVENT
BEGIN:VEVENT
CREATED:20120123T042927Z
LAST-MODIFIED:20120123T044841Z
DTSTAMP:20120123T044841Z
UID:1a7a667c-907d-4cea-bb7a-c46218ddf24d
SUMMARY:New Year's Eve
CATEGORIES:Miscellaneous
DTSTART;VALUE=DATE:20121231
DTEND;VALUE=DATE:20130101
TRANSP:TRANSPARENT
END:VEVENT
BEGIN:VEVENT
CREATED:20120123T042649Z
LAST-MODIFIED:20120123T044903Z
DTSTAMP:20120123T044903Z
UID:38eaaf55-37d9-41de-ba92-ae5dff5c7393
SUMMARY:Father's Day
CATEGORIES:Miscellaneous
DTSTART;VALUE=DATE:20120902
DTEND;VALUE=DATE:20120903
TRANSP:TRANSPARENT
END:VEVENT
END:VCALENDAR
