BEGIN:VCALENDAR
METHOD:PUBLISH
VERSION:2.0
PRODID:-//Apple Inc.//iPhoto//EN
X-WR-CALNAME:US Holidays
X-WR-TIMEZONE:America/Los_Angeles
CALSCALE:GERGORIAN
BEGIN:VEVENT
UID:0
DTSTART;VALUE=DATE:20121104
DTEND;VALUE=DATE:20121105
SUMMARY:Daylight Savings Time Ends
END:VEVENT
BEGIN:VEVENT
UID:1
DTSTART;VALUE=DATE:20131103
DTEND;VALUE=DATE:20131104
SUMMARY:Daylight Savings Time Ends
END:VEVENT
BEGIN:VEVENT
UID:2
DTSTART;VALUE=DATE:20141102
DTEND;VALUE=DATE:20141103
SUMMARY:Daylight Savings Time Ends
END:VEVENT
BEGIN:VEVENT
UID:3
DTSTART;VALUE=DATE:20120116
DTEND;VALUE=DATE:20120117
SUMMARY:Martin Luther King, Jr. Day
END:VEVENT
BEGIN:VEVENT
UID:4
DTSTART;VALUE=DATE:20130121
DTEND;VALUE=DATE:20130122
SUMMARY:Martin Luther King, Jr. Day
END:VEVENT
BEGIN:VEVENT
UID:5
DTSTART;VALUE=DATE:20140120
DTEND;VALUE=DATE:20140121
SUMMARY:Martin Luther King, Jr. Day
END:VEVENT
BEGIN:VEVENT
UID:6
DTSTART;VALUE=DATE:20120202
DTEND;VALUE=DATE:20120203
SUMMARY:Groundhog Day
END:VEVENT
BEGIN:VEVENT
UID:7
DTSTART;VALUE=DATE:20130202
DTEND;VALUE=DATE:20130203
SUMMARY:Groundhog Day
END:VEVENT
BEGIN:VEVENT
UID:8
DTSTART;VALUE=DATE:20140202
DTEND;VALUE=DATE:20140203
SUMMARY:Groundhog Day
END:VEVENT
BEGIN:VEVENT
UID:9
DTSTART;VALUE=DATE:20120422
DTEND;VALUE=DATE:20120423
SUMMARY:Earth Day
END:VEVENT
BEGIN:VEVENT
UID:10
DTSTART;VALUE=DATE:20130422
DTEND;VALUE=DATE:20130423
SUMMARY:Earth Day
END:VEVENT
BEGIN:VEVENT
UID:11
DTSTART;VALUE=DATE:20140422
DTEND;VALUE=DATE:20140423
SUMMARY:Earth Day
END:VEVENT
BEGIN:VEVENT
UID:12
DTSTART;VALUE=DATE:20121008
DTEND;VALUE=DATE:20121009
SUMMARY:Columbus Day
END:VEVENT
BEGIN:VEVENT
UID:13
DTSTART;VALUE=DATE:20131014
DTEND;VALUE=DATE:20131015
SUMMARY:Columbus Day
END:VEVENT
BEGIN:VEVENT
UID:14
DTSTART;VALUE=DATE:20141013
DTEND;VALUE=DATE:20141014
SUMMARY:Columbus Day
END:VEVENT
BEGIN:VEVENT
UID:15
DTSTART;VALUE=DATE:20121115
DTEND;VALUE=DATE:20121116
SUMMARY:Islamic New Year
END:VEVENT
BEGIN:VEVENT
UID:16
DTSTART;VALUE=DATE:20131105
DTEND;VALUE=DATE:20131106
SUMMARY:Islamic New Year
END:VEVENT
BEGIN:VEVENT
UID:17
DTSTART;VALUE=DATE:20141025
DTEND;VALUE=DATE:20141026
SUMMARY:Islamic New Year
END:VEVENT
BEGIN:VEVENT
UID:18
DTSTART;VALUE=DATE:20121122
DTEND;VALUE=DATE:20121123
SUMMARY:Thanksgiving
END:VEVENT
BEGIN:VEVENT
UID:19
DTSTART;VALUE=DATE:20131128
DTEND;VALUE=DATE:20131129
SUMMARY:Thanksgiving
END:VEVENT
BEGIN:VEVENT
UID:20
DTSTART;VALUE=DATE:20141127
DTEND;VALUE=DATE:20141128
SUMMARY:Thanksgiving
END:VEVENT
BEGIN:VEVENT
UID:21
DTSTART;VALUE=DATE:20121209
DTEND;VALUE=DATE:20121210
SUMMARY:Hanukkah
END:VEVENT
BEGIN:VEVENT
UID:22
DTSTART;VALUE=DATE:20131128
DTEND;VALUE=DATE:20131129
SUMMARY:Hanukkah
END:VEVENT
BEGIN:VEVENT
UID:23
DTSTART;VALUE=DATE:20141217
DTEND;VALUE=DATE:20141218
SUMMARY:Hanukkah
END:VEVENT
BEGIN:VEVENT
UID:24
DTSTART;VALUE=DATE:20120505
DTEND;VALUE=DATE:20120506
SUMMARY:Cinco de Mayo
END:VEVENT
BEGIN:VEVENT
UID:25
DTSTART;VALUE=DATE:20130505
DTEND;VALUE=DATE:20130506
SUMMARY:Cinco de Mayo
END:VEVENT
BEGIN:VEVENT
UID:26
DTSTART;VALUE=DATE:20140505
DTEND;VALUE=DATE:20140506
SUMMARY:Cinco de Mayo
END:VEVENT
BEGIN:VEVENT
UID:27
DTSTART;VALUE=DATE:20120528
DTEND;VALUE=DATE:20120529
SUMMARY:Memorial Day
END:VEVENT
BEGIN:VEVENT
UID:28
DTSTART;VALUE=DATE:20130527
DTEND;VALUE=DATE:20130528
SUMMARY:Memorial Day
END:VEVENT
BEGIN:VEVENT
UID:29
DTSTART;VALUE=DATE:20140526
DTEND;VALUE=DATE:20140527
SUMMARY:Memorial Day
END:VEVENT
BEGIN:VEVENT
UID:30
DTSTART;VALUE=DATE:20120101
DTEND;VALUE=DATE:20120102
SUMMARY:New Year's Day
END:VEVENT
BEGIN:VEVENT
UID:31
DTSTART;VALUE=DATE:20130101
DTEND;VALUE=DATE:20130102
SUMMARY:New Year's Day
END:VEVENT
BEGIN:VEVENT
UID:32
DTSTART;VALUE=DATE:20140101
DTEND;VALUE=DATE:20140102
SUMMARY:New Year's Day
END:VEVENT
BEGIN:VEVENT
UID:33
DTSTART;VALUE=DATE:20120617
DTEND;VALUE=DATE:20120618
SUMMARY:Father's Day
END:VEVENT
BEGIN:VEVENT
UID:34
DTSTART;VALUE=DATE:20130616
DTEND;VALUE=DATE:20130617
SUMMARY:Father's Day
END:VEVENT
BEGIN:VEVENT
UID:35
DTSTART;VALUE=DATE:20140615
DTEND;VALUE=DATE:20140616
SUMMARY:Father's Day
END:VEVENT
BEGIN:VEVENT
UID:36
DTSTART;VALUE=DATE:20121113
DTEND;VALUE=DATE:20121114
SUMMARY:Diwali
END:VEVENT
BEGIN:VEVENT
UID:37
DTSTART;VALUE=DATE:20131103
DTEND;VALUE=DATE:20131104
SUMMARY:Diwali
END:VEVENT
BEGIN:VEVENT
UID:38
DTSTART;VALUE=DATE:20141023
DTEND;VALUE=DATE:20141024
SUMMARY:Diwali
END:VEVENT
BEGIN:VEVENT
UID:39
DTSTART;VALUE=DATE:20120513
DTEND;VALUE=DATE:20120514
SUMMARY:Mother's Day
END:VEVENT
BEGIN:VEVENT
UID:40
DTSTART;VALUE=DATE:20130512
DTEND;VALUE=DATE:20130513
SUMMARY:Mother's Day
END:VEVENT
BEGIN:VEVENT
UID:41
DTSTART;VALUE=DATE:20140511
DTEND;VALUE=DATE:20140512
SUMMARY:Mother's Day
END:VEVENT
BEGIN:VEVENT
UID:42
DTSTART;VALUE=DATE:20120704
DTEND;VALUE=DATE:20120705
SUMMARY:Independence Day (observed)
END:VEVENT
BEGIN:VEVENT
UID:43
DTSTART;VALUE=DATE:20130704
DTEND;VALUE=DATE:20130705
SUMMARY:Independence Day (observed)
END:VEVENT
BEGIN:VEVENT
UID:44
DTSTART;VALUE=DATE:20140704
DTEND;VALUE=DATE:20140705
SUMMARY:Independence Day (observed)
END:VEVENT
BEGIN:VEVENT
UID:45
DTSTART;VALUE=DATE:20121225
DTEND;VALUE=DATE:20121226
SUMMARY:Christmas Day
END:VEVENT
BEGIN:VEVENT
UID:46
DTSTART;VALUE=DATE:20131225
DTEND;VALUE=DATE:20131226
SUMMARY:Christmas Day
END:VEVENT
BEGIN:VEVENT
UID:47
DTSTART;VALUE=DATE:20141225
DTEND;VALUE=DATE:20141226
SUMMARY:Christmas Day
END:VEVENT
BEGIN:VEVENT
UID:48
DTSTART;VALUE=DATE:20120614
DTEND;VALUE=DATE:20120615
SUMMARY:Flag Day
END:VEVENT
BEGIN:VEVENT
UID:49
DTSTART;VALUE=DATE:20130614
DTEND;VALUE=DATE:20130615
SUMMARY:Flag Day
END:VEVENT
BEGIN:VEVENT
UID:50
DTSTART;VALUE=DATE:20140614
DTEND;VALUE=DATE:20140615
SUMMARY:Flag Day
END:VEVENT
BEGIN:VEVENT
UID:51
DTSTART;VALUE=DATE:20120311
DTEND;VALUE=DATE:20120312
SUMMARY:Daylight Savings Time Begins
END:VEVENT
BEGIN:VEVENT
UID:52
DTSTART;VALUE=DATE:20130310
DTEND;VALUE=DATE:20130311
SUMMARY:Daylight Savings Time Begins
END:VEVENT
BEGIN:VEVENT
UID:53
DTSTART;VALUE=DATE:20140309
DTEND;VALUE=DATE:20140310
SUMMARY:Daylight Savings Time Begins
END:VEVENT
BEGIN:VEVENT
UID:54
DTSTART;VALUE=DATE:20120417
DTEND;VALUE=DATE:20120418
SUMMARY:Tax Day
END:VEVENT
BEGIN:VEVENT
UID:55
DTSTART;VALUE=DATE:20130415
DTEND;VALUE=DATE:20130416
SUMMARY:Tax Day
END:VEVENT
BEGIN:VEVENT
UID:56
DTSTART;VALUE=DATE:20140415
DTEND;VALUE=DATE:20140416
SUMMARY:Tax Day
END:VEVENT
BEGIN:VEVENT
UID:57
DTSTART;VALUE=DATE:20120123
DTEND;VALUE=DATE:20120124
SUMMARY:Chinese New Year
END:VEVENT
BEGIN:VEVENT
UID:58
DTSTART;VALUE=DATE:20130211
DTEND;VALUE=DATE:20130212
SUMMARY:Chinese New Year
END:VEVENT
BEGIN:VEVENT
UID:59
DTSTART;VALUE=DATE:20140131
DTEND;VALUE=DATE:20140201
SUMMARY:Chinese New Year
END:VEVENT
BEGIN:VEVENT
UID:60
DTSTART;VALUE=DATE:20120214
DTEND;VALUE=DATE:20120215
SUMMARY:Valentine's Day
END:VEVENT
BEGIN:VEVENT
UID:61
DTSTART;VALUE=DATE:20130214
DTEND;VALUE=DATE:20130215
SUMMARY:Valentine's Day
END:VEVENT
BEGIN:VEVENT
UID:62
DTSTART;VALUE=DATE:20140214
DTEND;VALUE=DATE:20140215
SUMMARY:Valentine's Day
END:VEVENT
BEGIN:VEVENT
UID:63
DTSTART;VALUE=DATE:20120408
DTEND;VALUE=DATE:20120409
SUMMARY:Easter
END:VEVENT
BEGIN:VEVENT
UID:64
DTSTART;VALUE=DATE:20130331
DTEND;VALUE=DATE:20130401
SUMMARY:Easter
END:VEVENT
BEGIN:VEVENT
UID:65
DTSTART;VALUE=DATE:20140420
DTEND;VALUE=DATE:20140421
SUMMARY:Easter
END:VEVENT
BEGIN:VEVENT
UID:66
DTSTART;VALUE=DATE:20121226
DTEND;VALUE=DATE:20121227
SUMMARY:Kwanzaa
END:VEVENT
BEGIN:VEVENT
UID:67
DTSTART;VALUE=DATE:20131226
DTEND;VALUE=DATE:20131227
SUMMARY:Kwanzaa
END:VEVENT
BEGIN:VEVENT
UID:68
DTSTART;VALUE=DATE:20141226
DTEND;VALUE=DATE:20141227
SUMMARY:Kwanzaa
END:VEVENT
BEGIN:VEVENT
UID:69
DTSTART;VALUE=DATE:20121106
DTEND;VALUE=DATE:20121107
SUMMARY:Election Day
END:VEVENT
BEGIN:VEVENT
UID:70
DTSTART;VALUE=DATE:20131105
DTEND;VALUE=DATE:20131106
SUMMARY:Election Day
END:VEVENT
BEGIN:VEVENT
UID:71
DTSTART;VALUE=DATE:20141104
DTEND;VALUE=DATE:20141105
SUMMARY:Election Day
END:VEVENT
BEGIN:VEVENT
UID:72
DTSTART;VALUE=DATE:20120220
DTEND;VALUE=DATE:20120221
SUMMARY:President's Day
END:VEVENT
BEGIN:VEVENT
UID:73
DTSTART;VALUE=DATE:20130218
DTEND;VALUE=DATE:20130219
SUMMARY:President's Day
END:VEVENT
BEGIN:VEVENT
UID:74
DTSTART;VALUE=DATE:20140217
DTEND;VALUE=DATE:20140218
SUMMARY:President's Day
END:VEVENT
BEGIN:VEVENT
UID:75
DTSTART;VALUE=DATE:20120903
DTEND;VALUE=DATE:20120904
SUMMARY:Labor Day
END:VEVENT
BEGIN:VEVENT
UID:76
DTSTART;VALUE=DATE:20130902
DTEND;VALUE=DATE:20130903
SUMMARY:Labor Day
END:VEVENT
BEGIN:VEVENT
UID:77
DTSTART;VALUE=DATE:20140901
DTEND;VALUE=DATE:20140902
SUMMARY:Labor Day
END:VEVENT
BEGIN:VEVENT
UID:78
DTSTART;VALUE=DATE:20120407
DTEND;VALUE=DATE:20120408
SUMMARY:Passover
END:VEVENT
BEGIN:VEVENT
UID:79
DTSTART;VALUE=DATE:20130326
DTEND;VALUE=DATE:20130327
SUMMARY:Passover
END:VEVENT
BEGIN:VEVENT
UID:80
DTSTART;VALUE=DATE:20140415
DTEND;VALUE=DATE:20140416
SUMMARY:Passover
END:VEVENT
BEGIN:VEVENT
UID:81
DTSTART;VALUE=DATE:20120317
DTEND;VALUE=DATE:20120318
SUMMARY:St Patrick's Day
END:VEVENT
BEGIN:VEVENT
UID:82
DTSTART;VALUE=DATE:20130317
DTEND;VALUE=DATE:20130318
SUMMARY:St Patrick's Day
END:VEVENT
BEGIN:VEVENT
UID:83
DTSTART;VALUE=DATE:20140317
DTEND;VALUE=DATE:20140318
SUMMARY:St Patrick's Day
END:VEVENT
BEGIN:VEVENT
UID:84
DTSTART;VALUE=DATE:20120917
DTEND;VALUE=DATE:20120918
SUMMARY:Rosh Hashanah
END:VEVENT
BEGIN:VEVENT
UID:85
DTSTART;VALUE=DATE:20130905
DTEND;VALUE=DATE:20130906
SUMMARY:Rosh Hashanah
END:VEVENT
BEGIN:VEVENT
UID:86
DTSTART;VALUE=DATE:20140925
DTEND;VALUE=DATE:20140926
SUMMARY:Rosh Hashanah
END:VEVENT
BEGIN:VEVENT
UID:87
DTSTART;VALUE=DATE:20121031
DTEND;VALUE=DATE:20121101
SUMMARY:Halloween
END:VEVENT
BEGIN:VEVENT
UID:88
DTSTART;VALUE=DATE:20131031
DTEND;VALUE=DATE:20131101
SUMMARY:Halloween
END:VEVENT
BEGIN:VEVENT
UID:89
DTSTART;VALUE=DATE:20141031
DTEND;VALUE=DATE:20141101
SUMMARY:Halloween
END:VEVENT
BEGIN:VEVENT
UID:90
DTSTART;VALUE=DATE:20120926
DTEND;VALUE=DATE:20120927
SUMMARY:Yom Kippur
END:VEVENT
BEGIN:VEVENT
UID:91
DTSTART;VALUE=DATE:20130914
DTEND;VALUE=DATE:20130915
SUMMARY:Yom Kippur
END:VEVENT
BEGIN:VEVENT
UID:92
DTSTART;VALUE=DATE:20141004
DTEND;VALUE=DATE:20141005
SUMMARY:Yom Kippur
END:VEVENT
BEGIN:VEVENT
UID:93
DTSTART;VALUE=DATE:20120819
DTEND;VALUE=DATE:20120820
SUMMARY:End of Ramadan
END:VEVENT
BEGIN:VEVENT
UID:94
DTSTART;VALUE=DATE:20130808
DTEND;VALUE=DATE:20130809
SUMMARY:End of Ramadan
END:VEVENT
BEGIN:VEVENT
UID:95
DTSTART;VALUE=DATE:20140729
DTEND;VALUE=DATE:20140730
SUMMARY:End of Ramadan
END:VEVENT
BEGIN:VEVENT
UID:96
DTSTART;VALUE=DATE:20120401
DTEND;VALUE=DATE:20120402
SUMMARY:April Fools Day
END:VEVENT
BEGIN:VEVENT
UID:97
DTSTART;VALUE=DATE:20130401
DTEND;VALUE=DATE:20130402
SUMMARY:April Fools Day
END:VEVENT
BEGIN:VEVENT
UID:98
DTSTART;VALUE=DATE:20140401
DTEND;VALUE=DATE:20140402
SUMMARY:April Fools Day
END:VEVENT
BEGIN:VEVENT
UID:99
DTSTART;VALUE=DATE:20121112
DTEND;VALUE=DATE:20121113
SUMMARY:Veterans Day
END:VEVENT
BEGIN:VEVENT
UID:100
DTSTART;VALUE=DATE:20131111
DTEND;VALUE=DATE:20131112
SUMMARY:Veterans Day
END:VEVENT
BEGIN:VEVENT
UID:101
DTSTART;VALUE=DATE:20141111
DTEND;VALUE=DATE:20141112
SUMMARY:Veterans Day
END:VEVENT
BEGIN:VEVENT
UID:102
DTSTART;VALUE=DATE:20120102
DTEND;VALUE=DATE:20120103
SUMMARY:New Year's Day (observed)
END:VEVENT
END:VCALENDAR