BEGIN:VCALENDAR
VERSION:2.0
PRODID:-//Reason 4.0//EN
X-WR-CALNAME;VALUE=TEXT:Academic Technologies
X-WR-TIMEZONE:America/Chicago
BEGIN:VEVENT
UID:20140912140414-1181944@carleton.edu
SUMMARY:AT Drop-in Clinic
DESCRIPTION:We will help with Moodle, Edublogs, Panopto, Omeka and other tools. Or just
  come and bounce some ideas around, and we’ll help you out!
LOCATION:IdeaLab, Weitz Center for Creativity
LAST-MODIFIED:20140912T140606
CREATED:20140912T140414
DTSTART:20140915T100000
DURATION:PT2H0M0S
RRULE:FREQ=WEEKLY;UNTIL=20141121T235959;INTERVAL=1;BYDAY=MO,WE,FR
SEQUENCE:1
END:VEVENT
BEGIN:VEVENT
UID:20140922141114-1185936@carleton.edu
SUMMARY:AT Drop-in Clinic
DESCRIPTION:We will help with Moodle, Edublogs, Panopto, Omeka and other tools. Or just
  come and bounce some ideas around, and we’ll help you out!
LOCATION:IdeaLab, Weitz Center for Creativity
LAST-MODIFIED:20141001T095435
CREATED:20140922T141114
DTSTART:20140930T150000
DURATION:PT2H0M0S
RRULE:FREQ=WEEKLY;UNTIL=20141120T235959;INTERVAL=1;BYDAY=TU,TH
SEQUENCE:1
END:VEVENT
END:VCALENDAR
