BEGIN:VCALENDAR
METHOD:PUBLISH
PRODID:Microsoft Exchange Server 2010
VERSION:2.0
X-WR-CALNAME:Calendar
BEGIN:VTIMEZONE
TZID:Romance Standard Time
BEGIN:STANDARD
DTSTART:16010101T030000
TZOFFSETFROM:+0200
TZOFFSETTO:+0100
RRULE:FREQ=YEARLY;INTERVAL=1;BYDAY=-1SU;BYMONTH=10
END:STANDARD
BEGIN:DAYLIGHT
DTSTART:16010101T020000
TZOFFSETFROM:+0100
TZOFFSETTO:+0200
RRULE:FREQ=YEARLY;INTERVAL=1;BYDAY=-1SU;BYMONTH=3
END:DAYLIGHT
END:VTIMEZONE
BEGIN:VEVENT
DESCRIPTION:\n\n
SUMMARY:new meeting - test moodle
DTSTART;TZID=Romance Standard Time:20141110T090000
DTEND;TZID=Romance Standard Time:20141110T093000
UID:040000008200E00074C5B7101A82E00800000000902CB97099F9CF01000000000000000
 010000000D75BD82EC1D170438C15C6619B353DC9
CLASS:PUBLIC
PRIORITY:5
DTSTAMP:20141106T071552Z
TRANSP:OPAQUE
STATUS:CONFIRMED
SEQUENCE:0
LOCATION:
X-MICROSOFT-CDO-APPT-SEQUENCE:0
X-MICROSOFT-CDO-BUSYSTATUS:BUSY
X-MICROSOFT-CDO-INTENDEDSTATUS:BUSY
X-MICROSOFT-CDO-ALLDAYEVENT:FALSE
X-MICROSOFT-CDO-IMPORTANCE:1
X-MICROSOFT-CDO-INSTTYPE:0
X-MICROSOFT-DISALLOW-COUNTER:FALSE
END:VEVENT
BEGIN:VEVENT
DESCRIPTION:\n\n
SUMMARY:all day event - test moodle
DTSTART;VALUE=DATE:20141112
DTEND;VALUE=DATE:20141113
UID:040000008200E00074C5B7101A82E00800000000E0496F7A99F9CF01000000000000000
 010000000D1E13B6FDC54E84FBA04A45BEA4B3F79
CLASS:PUBLIC
PRIORITY:5
DTSTAMP:20141106T071552Z
TRANSP:OPAQUE
STATUS:CONFIRMED
SEQUENCE:0
LOCATION:
X-MICROSOFT-CDO-APPT-SEQUENCE:0
X-MICROSOFT-CDO-BUSYSTATUS:FREE
X-MICROSOFT-CDO-INTENDEDSTATUS:BUSY
X-MICROSOFT-CDO-ALLDAYEVENT:TRUE
X-MICROSOFT-CDO-IMPORTANCE:1
X-MICROSOFT-CDO-INSTTYPE:0
X-MICROSOFT-DISALLOW-COUNTER:FALSE
END:VEVENT
BEGIN:VEVENT
DESCRIPTION:\n\n
RRULE:FREQ=WEEKLY;UNTIL=20141121T080000Z;INTERVAL=1;BYDAY=MO,TU,WE,TH,FR;WK
 ST=MO
SUMMARY:recurrence test moodle
DTSTART;TZID=Romance Standard Time:20141117T090000
DTEND;TZID=Romance Standard Time:20141117T093000
UID:040000008200E00074C5B7101A82E008000000005033B19399F9CF01000000000000000
 010000000C79E87F60669EB46B041C0A6451A1860
CLASS:PUBLIC
PRIORITY:5
DTSTAMP:20141106T071552Z
TRANSP:OPAQUE
STATUS:CONFIRMED
SEQUENCE:0
LOCATION:
X-MICROSOFT-CDO-APPT-SEQUENCE:0
X-MICROSOFT-CDO-BUSYSTATUS:BUSY
X-MICROSOFT-CDO-INTENDEDSTATUS:BUSY
X-MICROSOFT-CDO-ALLDAYEVENT:FALSE
X-MICROSOFT-CDO-IMPORTANCE:1
X-MICROSOFT-CDO-INSTTYPE:1
X-MICROSOFT-DISALLOW-COUNTER:FALSE
END:VEVENT
END:VCALENDAR
