BEGIN:VCALENDAR
X-WR-CALNAME:Test
X-WR-CALID:77afec1d-9c88-4d37-b651-d79d408adf68:83456
PRODID:Zimbra-Calendar-Provider
VERSION:2.0
METHOD:PUBLISH
BEGIN:VEVENT
UID:6cc6d345-a175-4cc0-89e7-1eeca1385c57
SUMMARY:Test all-day event
ORGANIZER;CN=Ryan Tandy:mailto:rtandy@sd63.bc.ca
DTSTART;VALUE=DATE:20150212
DTEND;VALUE=DATE:20150213
STATUS:CONFIRMED
CLASS:PUBLIC
X-MICROSOFT-CDO-ALLDAYEVENT:TRUE
X-MICROSOFT-CDO-INTENDEDSTATUS:FREE
TRANSP:TRANSPARENT
LAST-MODIFIED:20150212T214624Z
DTSTAMP:20150212T214624Z
SEQUENCE:0
END:VEVENT
END:VCALENDAR
