BEGIN:VCALENDAR
PRODID:-//Calendar Labs//Calendar 1.0//EN
VERSION:2.0
CALSCALE:GREGORIAN
METHOD:PUBLISH
X-WR-CALNAME:USA Holidays
X-WR-TIMEZONE:America/New_York
BEGIN:VEVENT
DTSTART;VALUE=DATE:20140101
DTEND;VALUE=DATE:20140102
DTSTAMP:20111213T124028Z
UID:c36ba06c726bd6c9416050ffd@calendarlabs.com
CREATED:20111213T123901Z
DESCRIPTION:Visit http://calendarlabs.com/holidays/us/new-years-day.php to know more about New Year's Day. Like us on Facebook: http://fb.com/calendarlabs to get updates.
LAST-MODIFIED:20111213T123901Z
LOCATION:
SEQUENCE:0
STATUS:CONFIRMED
SUMMARY:New Year's Day
TRANSP:TRANSPARENT
END:VEVENT
BEGIN:VEVENT
DTSTART;VALUE=DATE:20140120
DTEND;VALUE=DATE:20140121
DTSTAMP:20111213T124028Z
UID:83b36e7fdd4cc74773e9a46a6@calendarlabs.com
CREATED:20111213T123901Z
DESCRIPTION:Visit http://calendarlabs.com/holidays/us/martin-luther-king-day.php to know more about M L King Day. Like us on Facebook: http://fb.com/calendarlabs to get updates.
LAST-MODIFIED:20111213T123901Z
LOCATION:
SEQUENCE:0
STATUS:CONFIRMED
SUMMARY:M L King Day
TRANSP:TRANSPARENT
END:VEVENT
BEGIN:VEVENT
DTSTART;VALUE=DATE:20140214
DTEND;VALUE=DATE:20140215
DTSTAMP:20111213T124028Z
UID:703690b56118ce24852ea664b@calendarlabs.com
CREATED:20111213T123901Z
DESCRIPTION:Visit http://calendarlabs.com/holidays/us/valentines-day.php to know more about Valentine's Day. Like us on Facebook: http://fb.com/calendarlabs to get updates.
LAST-MODIFIED:20111213T123901Z
LOCATION:
SEQUENCE:0
STATUS:CONFIRMED
SUMMARY:Valentine's Day
TRANSP:TRANSPARENT
END:VEVENT
BEGIN:VEVENT
DTSTART;VALUE=DATE:20140217
DTEND;VALUE=DATE:20140218
DTSTAMP:20111213T124028Z
UID:5bea6e40ae102d6ca29cc62f1@calendarlabs.com
CREATED:20111213T123901Z
DESCRIPTION:Visit http://calendarlabs.com/holidays/us/presidents-day.php to know more about Presidents' Day. Like us on Facebook: http://fb.com/calendarlabs to get updates.
LAST-MODIFIED:20111213T123901Z
LOCATION:
SEQUENCE:0
STATUS:CONFIRMED
SUMMARY:Presidents' Day
TRANSP:TRANSPARENT
END:VEVENT
BEGIN:VEVENT
DTSTART;VALUE=DATE:20140418
DTEND;VALUE=DATE:20140419
DTSTAMP:20111213T124028Z
UID:a893822459448d119d4058be6@calendarlabs.com
CREATED:20111213T123901Z
DESCRIPTION:Visit http://calendarlabs.com/holidays/us/good-friday.php to know more about Good Friday. Like us on Facebook: http://fb.com/calendarlabs to get updates.
LAST-MODIFIED:20111213T123901Z
LOCATION:
SEQUENCE:0
STATUS:CONFIRMED
SUMMARY:Good Friday
TRANSP:TRANSPARENT
END:VEVENT
BEGIN:VEVENT
DTSTART;VALUE=DATE:20140420
DTEND;VALUE=DATE:20140421
DTSTAMP:20111213T124028Z
UID:e66fa37642ab33896c095a3aa@calendarlabs.com
CREATED:20111213T123901Z
DESCRIPTION:Visit http://calendarlabs.com/holidays/us/easter.php to know more about Easter Sunday. Like us on Facebook: http://fb.com/calendarlabs to get updates.
LAST-MODIFIED:20111213T123901Z
LOCATION:
SEQUENCE:0
STATUS:CONFIRMED
SUMMARY:Easter Sunday
TRANSP:TRANSPARENT
END:VEVENT
BEGIN:VEVENT
DTSTART;VALUE=DATE:20140511
DTEND;VALUE=DATE:20140512
DTSTAMP:20111213T124028Z
UID:3502aecac7e1768a459c9d317@calendarlabs.com
CREATED:20111213T123901Z
DESCRIPTION:Visit http://calendarlabs.com/holidays/shared/mothers-day.php to know more about Mother's Day. Like us on Facebook: http://fb.com/calendarlabs to get updates.
LAST-MODIFIED:20111213T123901Z
LOCATION:
SEQUENCE:0
STATUS:CONFIRMED
SUMMARY:Mother's Day
TRANSP:TRANSPARENT
END:VEVENT
BEGIN:VEVENT
DTSTART;VALUE=DATE:20140526
DTEND;VALUE=DATE:20140527
DTSTAMP:20111213T124028Z
UID:061d770030a0b53d304125142@calendarlabs.com
CREATED:20111213T123901Z
DESCRIPTION:Visit http://calendarlabs.com/holidays/us/memorial-day.php to know more about Memorial Day. Like us on Facebook: http://fb.com/calendarlabs to get updates.
LAST-MODIFIED:20111213T123901Z
LOCATION:
SEQUENCE:0
STATUS:CONFIRMED
SUMMARY:Memorial Day
TRANSP:TRANSPARENT
END:VEVENT
BEGIN:VEVENT
DTSTART;VALUE=DATE:20140615
DTEND;VALUE=DATE:20140616
DTSTAMP:20111213T124028Z
UID:8d1012bab1b72ef6c9f4f707e@calendarlabs.com
CREATED:20111213T123901Z
DESCRIPTION:Visit http://calendarlabs.com/holidays/shared/fathers-day.php to know more about Father's Day. Like us on Facebook: http://fb.com/calendarlabs to get updates.
LAST-MODIFIED:20111213T123901Z
LOCATION:
SEQUENCE:0
STATUS:CONFIRMED
SUMMARY:Father's Day
TRANSP:TRANSPARENT
END:VEVENT
BEGIN:VEVENT
DTSTART;VALUE=DATE:20140704
DTEND;VALUE=DATE:20140705
DTSTAMP:20111213T124028Z
UID:5cac0bf29c2f58656803dfa09@calendarlabs.com
CREATED:20111213T123901Z
DESCRIPTION:Visit http://calendarlabs.com/holidays/us/independence-day.php to know more about Independence Day. Like us on Facebook: http://fb.com/calendarlabs to get updates.
LAST-MODIFIED:20111213T123901Z
LOCATION:
SEQUENCE:0
STATUS:CONFIRMED
SUMMARY:Independence Day
TRANSP:TRANSPARENT
END:VEVENT
BEGIN:VEVENT
DTSTART;VALUE=DATE:20140901
DTEND;VALUE=DATE:20140902
DTSTAMP:20111213T124028Z
UID:941fec52dc642ec571558bdae@calendarlabs.com
CREATED:20111213T123901Z
DESCRIPTION:Visit http://calendarlabs.com/holidays/us/labor-day.php to know more about Labor Day. Like us on Facebook: http://fb.com/calendarlabs to get updates.
LAST-MODIFIED:20111213T123901Z
LOCATION:
SEQUENCE:0
STATUS:CONFIRMED
SUMMARY:Labor Day
TRANSP:TRANSPARENT
END:VEVENT
BEGIN:VEVENT
DTSTART;VALUE=DATE:20141013
DTEND;VALUE=DATE:20141014
DTSTAMP:20111213T124028Z
UID:1e90b3d73fdaedba7ecf37398@calendarlabs.com
CREATED:20111213T123901Z
DESCRIPTION:Visit http://calendarlabs.com/holidays/us/columbus-day.php to know more about Columbus Day. Like us on Facebook: http://fb.com/calendarlabs to get updates.
LAST-MODIFIED:20111213T123901Z
LOCATION:
SEQUENCE:0
STATUS:CONFIRMED
SUMMARY:Columbus Day
TRANSP:TRANSPARENT
END:VEVENT
BEGIN:VEVENT
DTSTART;VALUE=DATE:20141031
DTEND;VALUE=DATE:20141101
DTSTAMP:20111213T124028Z
UID:36caf5121ba1babe1db349066@calendarlabs.com
CREATED:20111213T123901Z
DESCRIPTION:Visit http://calendarlabs.com/holidays/us/halloween.php to know more about Halloween. Like us on Facebook: http://fb.com/calendarlabs to get updates.
LAST-MODIFIED:20111213T123901Z
LOCATION:
SEQUENCE:0
STATUS:CONFIRMED
SUMMARY:Halloween
TRANSP:TRANSPARENT
END:VEVENT
BEGIN:VEVENT
DTSTART;VALUE=DATE:20141111
DTEND;VALUE=DATE:20141112
DTSTAMP:20111213T124028Z
UID:10067d51d7077888af3a85d9a@calendarlabs.com
CREATED:20111213T123901Z
DESCRIPTION:Visit http://calendarlabs.com/holidays/us/veterans-day.php to know more about Veterans Day. Like us on Facebook: http://fb.com/calendarlabs to get updates.
LAST-MODIFIED:20111213T123901Z
LOCATION:
SEQUENCE:0
STATUS:CONFIRMED
SUMMARY:Veterans Day
TRANSP:TRANSPARENT
END:VEVENT
BEGIN:VEVENT
DTSTART;VALUE=DATE:20141127
DTEND;VALUE=DATE:20141128
DTSTAMP:20111213T124028Z
UID:7d947110c5c72fa143d1070d6@calendarlabs.com
CREATED:20111213T123901Z
DESCRIPTION:Visit http://calendarlabs.com/holidays/us/thanksgiving-day.php to know more about Thanksgiving Day. Like us on Facebook: http://fb.com/calendarlabs to get updates.
LAST-MODIFIED:20111213T123901Z
LOCATION:
SEQUENCE:0
STATUS:CONFIRMED
SUMMARY:Thanksgiving Day
TRANSP:TRANSPARENT
END:VEVENT
BEGIN:VEVENT
DTSTART;VALUE=DATE:20141225
DTEND;VALUE=DATE:20141226
DTSTAMP:20111213T124028Z
UID:817e5f26df8fb68ed134d49d1@calendarlabs.com
CREATED:20111213T123901Z
DESCRIPTION:Visit http://calendarlabs.com/holidays/us/christmas.php to know more about Christmas. Like us on Facebook: http://fb.com/calendarlabs to get updates.
LAST-MODIFIED:20111213T123901Z
LOCATION:
SEQUENCE:0
STATUS:CONFIRMED
SUMMARY:Christmas
TRANSP:TRANSPARENT
END:VEVENT
BEGIN:VEVENT
DTSTART;VALUE=DATE:20150101
DTEND;VALUE=DATE:20150102
DTSTAMP:20111213T124028Z
UID:ac191d243222b88543c428cce@calendarlabs.com
CREATED:20111213T123901Z
DESCRIPTION:Visit http://calendarlabs.com/holidays/us/new-years-day.php to know more about New Year's Day. Like us on Facebook: http://fb.com/calendarlabs to get updates.
LAST-MODIFIED:20111213T123901Z
LOCATION:
SEQUENCE:0
STATUS:CONFIRMED
SUMMARY:New Year's Day
TRANSP:TRANSPARENT
END:VEVENT
BEGIN:VEVENT
DTSTART;VALUE=DATE:20150119
DTEND;VALUE=DATE:20150120
DTSTAMP:20111213T124028Z
UID:bac01861e8257797680aa2bb1@calendarlabs.com
CREATED:20111213T123901Z
DESCRIPTION:Visit http://calendarlabs.com/holidays/us/martin-luther-king-day.php to know more about M L King Day. Like us on Facebook: http://fb.com/calendarlabs to get updates.
LAST-MODIFIED:20111213T123901Z
LOCATION:
SEQUENCE:0
STATUS:CONFIRMED
SUMMARY:M L King Day
TRANSP:TRANSPARENT
END:VEVENT
BEGIN:VEVENT
DTSTART;VALUE=DATE:20150214
DTEND;VALUE=DATE:20150215
DTSTAMP:20111213T124028Z
UID:b8e8b68cf018181fce8eb7990@calendarlabs.com
CREATED:20111213T123901Z
DESCRIPTION:Visit http://calendarlabs.com/holidays/us/valentines-day.php to know more about Valentine's Day. Like us on Facebook: http://fb.com/calendarlabs to get updates.
LAST-MODIFIED:20111213T123901Z
LOCATION:
SEQUENCE:0
STATUS:CONFIRMED
SUMMARY:Valentine's Day
TRANSP:TRANSPARENT
END:VEVENT
BEGIN:VEVENT
DTSTART;VALUE=DATE:20150216
DTEND;VALUE=DATE:20150217
DTSTAMP:20111213T124028Z
UID:9051c3fb9b18c8e918771675f@calendarlabs.com
CREATED:20111213T123901Z
DESCRIPTION:Visit http://calendarlabs.com/holidays/us/presidents-day.php to know more about Presidents' Day. Like us on Facebook: http://fb.com/calendarlabs to get updates.
LAST-MODIFIED:20111213T123901Z
LOCATION:
SEQUENCE:0
STATUS:CONFIRMED
SUMMARY:Presidents' Day
TRANSP:TRANSPARENT
END:VEVENT
BEGIN:VEVENT
DTSTART;VALUE=DATE:20150403
DTEND;VALUE=DATE:20150404
DTSTAMP:20111213T124028Z
UID:c434529031b1cc1edf53c5445@calendarlabs.com
CREATED:20111213T123901Z
DESCRIPTION:Visit http://calendarlabs.com/holidays/us/good-friday.php to know more about Good Friday. Like us on Facebook: http://fb.com/calendarlabs to get updates.
LAST-MODIFIED:20111213T123901Z
LOCATION:
SEQUENCE:0
STATUS:CONFIRMED
SUMMARY:Good Friday
TRANSP:TRANSPARENT
END:VEVENT
BEGIN:VEVENT
DTSTART;VALUE=DATE:20150405
DTEND;VALUE=DATE:20150406
DTSTAMP:20111213T124028Z
UID:020a20e338532d9554add9780@calendarlabs.com
CREATED:20111213T123901Z
DESCRIPTION:Visit http://calendarlabs.com/holidays/us/easter.php to know more about Easter Sunday. Like us on Facebook: http://fb.com/calendarlabs to get updates.
LAST-MODIFIED:20111213T123901Z
LOCATION:
SEQUENCE:0
STATUS:CONFIRMED
SUMMARY:Easter Sunday
TRANSP:TRANSPARENT
END:VEVENT
BEGIN:VEVENT
DTSTART;VALUE=DATE:20150510
DTEND;VALUE=DATE:20150511
DTSTAMP:20111213T124028Z
UID:75bead792526cba723e55fd64@calendarlabs.com
CREATED:20111213T123901Z
DESCRIPTION:Visit http://calendarlabs.com/holidays/shared/mothers-day.php to know more about Mother's Day. Like us on Facebook: http://fb.com/calendarlabs to get updates.
LAST-MODIFIED:20111213T123901Z
LOCATION:
SEQUENCE:0
STATUS:CONFIRMED
SUMMARY:Mother's Day
TRANSP:TRANSPARENT
END:VEVENT
BEGIN:VEVENT
DTSTART;VALUE=DATE:20150525
DTEND;VALUE=DATE:20150526
DTSTAMP:20111213T124028Z
UID:eeb7cd4a7e0afa0e2f30585e8@calendarlabs.com
CREATED:20111213T123901Z
DESCRIPTION:Visit http://calendarlabs.com/holidays/us/memorial-day.php to know more about Memorial Day. Like us on Facebook: http://fb.com/calendarlabs to get updates.
LAST-MODIFIED:20111213T123901Z
LOCATION:
SEQUENCE:0
STATUS:CONFIRMED
SUMMARY:Memorial Day
TRANSP:TRANSPARENT
END:VEVENT
BEGIN:VEVENT
DTSTART;VALUE=DATE:20150621
DTEND;VALUE=DATE:20150622
DTSTAMP:20111213T124028Z
UID:c038e6f6dceadcaeb36e76372@calendarlabs.com
CREATED:20111213T123901Z
DESCRIPTION:Visit http://calendarlabs.com/holidays/shared/fathers-day.php to know more about Father's Day. Like us on Facebook: http://fb.com/calendarlabs to get updates.
LAST-MODIFIED:20111213T123901Z
LOCATION:
SEQUENCE:0
STATUS:CONFIRMED
SUMMARY:Father's Day
TRANSP:TRANSPARENT
END:VEVENT
BEGIN:VEVENT
DTSTART;VALUE=DATE:20150704
DTEND;VALUE=DATE:20150705
DTSTAMP:20111213T124028Z
UID:ed487265b95f633aab3b598f8@calendarlabs.com
CREATED:20111213T123901Z
DESCRIPTION:Visit http://calendarlabs.com/holidays/us/independence-day.php to know more about Independence Day. Like us on Facebook: http://fb.com/calendarlabs to get updates.
LAST-MODIFIED:20111213T123901Z
LOCATION:
SEQUENCE:0
STATUS:CONFIRMED
SUMMARY:Independence Day
TRANSP:TRANSPARENT
END:VEVENT
BEGIN:VEVENT
DTSTART;VALUE=DATE:20150907
DTEND;VALUE=DATE:20150908
DTSTAMP:20111213T124028Z
UID:242475d5a5a9323aa7f1105a5@calendarlabs.com
CREATED:20111213T123901Z
DESCRIPTION:Visit http://calendarlabs.com/holidays/us/labor-day.php to know more about Labor Day. Like us on Facebook: http://fb.com/calendarlabs to get updates.
LAST-MODIFIED:20111213T123901Z
LOCATION:
SEQUENCE:0
STATUS:CONFIRMED
SUMMARY:Labor Day
TRANSP:TRANSPARENT
END:VEVENT
BEGIN:VEVENT
DTSTART;VALUE=DATE:20151012
DTEND;VALUE=DATE:20151013
DTSTAMP:20111213T124028Z
UID:c792a782712b466ee064e8015@calendarlabs.com
CREATED:20111213T123901Z
DESCRIPTION:Visit http://calendarlabs.com/holidays/us/columbus-day.php to know more about Columbus Day. Like us on Facebook: http://fb.com/calendarlabs to get updates.
LAST-MODIFIED:20111213T123901Z
LOCATION:
SEQUENCE:0
STATUS:CONFIRMED
SUMMARY:Columbus Day
TRANSP:TRANSPARENT
END:VEVENT
BEGIN:VEVENT
DTSTART;VALUE=DATE:20151031
DTEND;VALUE=DATE:20151101
DTSTAMP:20111213T124028Z
UID:5efa4c9307f35762c6cc05544@calendarlabs.com
CREATED:20111213T123901Z
DESCRIPTION:Visit http://calendarlabs.com/holidays/us/halloween.php to know more about Halloween. Like us on Facebook: http://fb.com/calendarlabs to get updates.
LAST-MODIFIED:20111213T123901Z
LOCATION:
SEQUENCE:0
STATUS:CONFIRMED
SUMMARY:Halloween
TRANSP:TRANSPARENT
END:VEVENT
BEGIN:VEVENT
DTSTART;VALUE=DATE:20151111
DTEND;VALUE=DATE:20151112
DTSTAMP:20111213T124028Z
UID:1a0900d53c9f9621feda85a27@calendarlabs.com
CREATED:20111213T123901Z
DESCRIPTION:Visit http://calendarlabs.com/holidays/us/veterans-day.php to know more about Veterans Day. Like us on Facebook: http://fb.com/calendarlabs to get updates.
LAST-MODIFIED:20111213T123901Z
LOCATION:
SEQUENCE:0
STATUS:CONFIRMED
SUMMARY:Veterans Day
TRANSP:TRANSPARENT
END:VEVENT
BEGIN:VEVENT
DTSTART;VALUE=DATE:20151126
DTEND;VALUE=DATE:20151127
DTSTAMP:20111213T124028Z
UID:86811d96b077d35beb11fc10d@calendarlabs.com
CREATED:20111213T123901Z
DESCRIPTION:Visit http://calendarlabs.com/holidays/us/thanksgiving-day.php to know more about Thanksgiving Day. Like us on Facebook: http://fb.com/calendarlabs to get updates.
LAST-MODIFIED:20111213T123901Z
LOCATION:
SEQUENCE:0
STATUS:CONFIRMED
SUMMARY:Thanksgiving Day
TRANSP:TRANSPARENT
END:VEVENT
BEGIN:VEVENT
DTSTART;VALUE=DATE:20151225
DTEND;VALUE=DATE:20151226
DTSTAMP:20111213T124028Z
UID:74d4e577d4d7bb6844ed761d0@calendarlabs.com
CREATED:20111213T123901Z
DESCRIPTION:Visit http://calendarlabs.com/holidays/us/christmas.php to know more about Christmas. Like us on Facebook: http://fb.com/calendarlabs to get updates.
LAST-MODIFIED:20111213T123901Z
LOCATION:
SEQUENCE:0
STATUS:CONFIRMED
SUMMARY:Christmas
TRANSP:TRANSPARENT
END:VEVENT
END:VCALENDAR