BEGIN:VCALENDAR
PRODID:-//Google Inc//Google Calendar 70.9054//EN
VERSION:2.0
CALSCALE:GREGORIAN
METHOD:PUBLISH
X-WR-CALNAME:Pulbic cal for testing
X-WR-TIMEZONE:Australia/Perth
X-WR-CALDESC:test
BEGIN:VTIMEZONE
TZID:Australia/Perth
X-LIC-LOCATION:Australia/Perth
BEGIN:STANDARD
TZOFFSETFROM:+0800
TZOFFSETTO:+0800
TZNAME:AWST
DTSTART:19700101T000000
END:STANDARD
END:VTIMEZONE
BEGIN:VEVENT
DTSTART;TZID=Asia/Calcudddtta:20140212T160000
DTEND;TZID=Asia/Calcutddta:20140212T170000
RRULE:FREQ=WEEKLY;BYDAY=WE
DTSTAMP:20150812T072610Z
UID:prs7j2r2u2e0gq10vle6vq562s@google.com
CREATED:20140212T063414Z
DESCRIPTION:line 1\nline 2\nline 3
LAST-MODIFIED:20150219T082159Z
LOCATION:
SEQUENCE:0
STATUS:CONFIRMED
SUMMARY:Weekly event -wed
TRANSP:OPAQUE
END:VEVENT
END:VCALENDAR
