BEGIN:VCALENDAR
METHOD:PUBLISH
PRODID:Microsoft Exchange Server 2010
VERSION:2.0
X-WR-CALNAME:Calendar
BEGIN:VTIMEZONE
TZID:SA Western Standard Time
BEGIN:STANDARD
DTSTART:16010101T000000
TZOFFSETFROM:-0400
TZOFFSETTO:-0400
END:STANDARD
BEGIN:DAYLIGHT
DTSTART:16010101T000000
TZOFFSETFROM:-0400
TZOFFSETTO:-0400
END:DAYLIGHT
END:VTIMEZONE
BEGIN:VEVENT
UID:040000008200E00074C5B7101A82E0080000000020D62CA09755D001000000000000000
 0100000003E175510DCAF154A9CF24E544EEDEAA5
SUMMARY:Game
DTSTART;TZID=SA Western Standard Time:20150307T100000
DTEND;TZID=SA Western Standard Time:20150307T183000
CLASS:PUBLIC
PRIORITY:5
DTSTAMP:20160306T190052Z
TRANSP:OPAQUE
STATUS:CONFIRMED
SEQUENCE:0
LOCATION:
X-MICROSOFT-CDO-APPT-SEQUENCE:0
X-MICROSOFT-CDO-BUSYSTATUS:BUSY
X-MICROSOFT-CDO-INTENDEDSTATUS:BUSY
X-MICROSOFT-CDO-ALLDAYEVENT:FALSE
X-MICROSOFT-CDO-IMPORTANCE:1
X-MICROSOFT-CDO-INSTTYPE:0
X-MICROSOFT-DISALLOW-COUNTER:FALSE
END:VEVENT
BEGIN:VEVENT
DESCRIPTION:\n\n
UID:90c745b9-45c6-45be-b700-f482ebaa2134
SUMMARY:End of third quarter 45 days
DTSTART;VALUE=DATE:20150313
DTEND;VALUE=DATE:20150314
CLASS:PUBLIC
PRIORITY:5
DTSTAMP:20160306T190052Z
TRANSP:OPAQUE
STATUS:CONFIRMED
SEQUENCE:0
LOCATION:
X-MICROSOFT-CDO-APPT-SEQUENCE:0
X-MICROSOFT-CDO-BUSYSTATUS:FREE
X-MICROSOFT-CDO-INTENDEDSTATUS:BUSY
X-MICROSOFT-CDO-ALLDAYEVENT:TRUE
X-MICROSOFT-CDO-IMPORTANCE:1
X-MICROSOFT-CDO-INSTTYPE:0
X-MICROSOFT-DISALLOW-COUNTER:FALSE
END:VEVENT
END:VCALENDAR
