BEGIN:VCALENDAR
PRODID:-//Google Inc//Google Calendar 70.9054//EN
VERSION:2.0
CALSCALE:GREGORIAN
METHOD:PUBLISH
X-WR-CALNAME:Calendar
X-WR-TIMEZONE:UTC
BEGIN:VEVENT
DTSTART:20160419T193000Z
DTEND:20160419T203000Z
DTSTAMP:20160306T191501Z
UID:040000008200E00074C5B7101A82E00800000000C32D9D23CE6FD101000000000000000
 010000000F86A5DAA8F22744FA89CADC2098A81F1
CLASS:PUBLIC
CREATED:20160225T233807Z
DESCRIPTION:\n
LAST-MODIFIED:20160225T233807Z
LOCATION:
SEQUENCE:0
STATUS:CONFIRMED
`X-MICROSOFT-CDO-BUSYSTATUS:BUSY
X-MICROSOFT-CDO-IMPORTANCE:1
X-MICROSOFT-CDO-INSTTYPE:0
X-MICROSOFT-CDO-INTENDEDSTATUS:BUSY
X-MICROSOFT-DISALLOW-COUNTER:FALSE
END:VEVENT
BEGIN:VEVENT
DTSTART:20160503T193000Z
DTEND:20160503T203000Z
DTSTAMP:20160306T191501Z
UID:040000008200E00074C5B7101A82E008000000003C923C0FCE6FD101000000000000000
 010000000839DBBA071B9584BA6AF188D59DF0E00
CLASS:PUBLIC
CREATED:20160225T233807Z
DESCRIPTION:\n
LAST-MODIFIED:20160225T233807Z
LOCATION:
SEQUENCE:0
STATUS:CONFIRMED
SUMMARY:Faculty Meeting
TRANSP:OPAQUE
X-MICROSOFT-CDO-ALLDAYEVENT:FALSE
X-MICROSOFT-CDO-APPT-SEQUENCE:0
X-MICROSOFT-CDO-BUSYSTATUS:BUSY
X-MICROSOFT-CDO-IMPORTANCE:1
X-MICROSOFT-CDO-INSTTYPE:0
X-MICROSOFT-CDO-INTENDEDSTATUS:BUSY
X-MICROSOFT-DISALLOW-COUNTER:FALSE
END:VEVENT
END:VCALENDAR
