BEGIN:VCALENDAR
METHOD:PUBLISH
PRODID:-//John Papaioannou/NONSGML Bennu 0.1//EN
VERSION:2.0
BEGIN:VEVENT
UID:2@jun.per.in.moodle.com/stable_master
SUMMARY:Test event
DESCRIPTION:Calendar event\nWith description having multiple lines!This has
	 a dog picture as well! Nice!
	
CLASS:PUBLIC
LAST-MODIFIED:20170524T020809Z
DTSTAMP:20170530T081124Z
DTSTART;VALUE=DATE:20170524
DTEND;VALUE=DATE:20170525
END:VEVENT
BEGIN:VEVENT
UID:3@jun.per.in.moodle.com/stable_master
SUMMARY:Test event
DESCRIPTION:Hello!This is a test event with a description that has multiple
	 lines!Awesome!
	
CLASS:PUBLIC
LAST-MODIFIED:20170523T054116Z
DTSTAMP:20170530T081124Z
DTSTART;VALUE=DATE:20170523
DTEND;VALUE=DATE:20170524
END:VEVENT
BEGIN:VEVENT
UID:4@jun.per.in.moodle.com/stable_master
SUMMARY:AAA
DESCRIPTION:Hello!\\nThis is a line!\\n
CLASS:PUBLIC
LAST-MODIFIED:20170523T062613Z
DTSTAMP:20170530T081124Z
DTSTART;VALUE=DATE:20170523
DTEND;VALUE=DATE:20170524
END:VEVENT
BEGIN:VEVENT
UID:5@jun.per.in.moodle.com/stable_master
SUMMARY:The Pythagorean theorem
DESCRIPTION:The Pythagorean theorem:a2&nbsp\;+ b2&nbsp\;= c2&nbsp\;\\( x^2+
	y^2=z^2 \\)For more information\, see:&nbsp\;https://en.wikipedia.org/wiki/
	Pythagorean_theoremガンバレみんな！
	
CLASS:PUBLIC
LAST-MODIFIED:20170524T023123Z
DTSTAMP:20170530T081124Z
DTSTART;VALUE=DATE:20170524
DTEND;VALUE=DATE:20170525
END:VEVENT
BEGIN:VEVENT
UID:42@jun.per.in.moodle.com/stable_master
SUMMARY:<span lang="en" class="multilang">Assignment 1 in course 2 EN</span
	><span lang="de" class="multilang">Assignment 1 in course 2  DE</span>
	
DESCRIPTION:Assignment 1 in course 2 description EN\nAssignment 1 in course
	 2  description DE
	
CLASS:PUBLIC
LAST-MODIFIED:20170524T041949Z
DTSTAMP:20170530T081124Z
DTSTART;VALUE=DATE:20170526
DTEND;VALUE=DATE:20170527
CATEGORIES:tc_0
END:VEVENT
BEGIN:VEVENT
UID:47@jun.per.in.moodle.com/stable_master
SUMMARY:Lesson 1 (Lesson opens)
DESCRIPTION:Hello\, let's learn!
CLASS:PUBLIC
LAST-MODIFIED:20170524T060857Z
DTSTAMP:20170530T081124Z
DTSTART;VALUE=DATE:20170515
DTEND;VALUE=DATE:20170516
CATEGORIES:tc_0
END:VEVENT
BEGIN:VEVENT
UID:63@jun.per.in.moodle.com/stable_master
SUMMARY:Quiz 1 (Quiz opens)
DESCRIPTION:
CLASS:PUBLIC
LAST-MODIFIED:20170524T061122Z
DTSTAMP:20170530T081124Z
DTSTART;VALUE=DATE:20170508
DTEND;VALUE=DATE:20170509
CATEGORIES:tc_0
END:VEVENT
BEGIN:VEVENT
UID:67@jun.per.in.moodle.com/stable_master
SUMMARY:<span lang="en" class="multilang">Assignment 1 in course 2 EN</span
	><span lang="de" class="multilang">Assignment 1 in course 2  DE</span>
	
DESCRIPTION:Assignment 1 in course 2 description EN\nAssignment 1 in course
	 2  description DE
	
CLASS:PUBLIC
LAST-MODIFIED:20170524T041949Z
DTSTAMP:20170530T081124Z
DTSTART;VALUE=DATE:20170526
DTEND;VALUE=DATE:20170527
CATEGORIES:tc_0_1
END:VEVENT
BEGIN:VEVENT
UID:72@jun.per.in.moodle.com/stable_master
SUMMARY:Lesson 1 (Lesson opens)
DESCRIPTION:Hello\, let's learn!
CLASS:PUBLIC
LAST-MODIFIED:20170524T060857Z
DTSTAMP:20170530T081124Z
DTSTART;VALUE=DATE:20170515
DTEND;VALUE=DATE:20170516
CATEGORIES:tc_0_1
END:VEVENT
BEGIN:VEVENT
UID:88@jun.per.in.moodle.com/stable_master
SUMMARY:Quiz 1 (Quiz opens)
DESCRIPTION:
CLASS:PUBLIC
LAST-MODIFIED:20170524T061122Z
DTSTAMP:20170530T081124Z
DTSTART;VALUE=DATE:20170508
DTEND;VALUE=DATE:20170509
CATEGORIES:tc_0_1
END:VEVENT
BEGIN:VEVENT
UID:92@jun.per.in.moodle.com/stable_master
SUMMARY:<span lang="en" class="multilang">Assignment 1 in course 2 EN</span
	><span lang="de" class="multilang">Assignment 1 in course 2  DE</span>
	
DESCRIPTION:Assignment 1 in course 2 description EN\nAssignment 1 in course
	 2  description DE
	
CLASS:PUBLIC
LAST-MODIFIED:20170524T041949Z
DTSTAMP:20170530T081124Z
DTSTART;VALUE=DATE:20170526
DTEND;VALUE=DATE:20170527
CATEGORIES:tc_0_2
END:VEVENT
BEGIN:VEVENT
UID:97@jun.per.in.moodle.com/stable_master
SUMMARY:Lesson 1 (Lesson opens)
DESCRIPTION:Hello\, let's learn!
CLASS:PUBLIC
LAST-MODIFIED:20170524T060857Z
DTSTAMP:20170530T081124Z
DTSTART;VALUE=DATE:20170515
DTEND;VALUE=DATE:20170516
CATEGORIES:tc_0_2
END:VEVENT
BEGIN:VEVENT
UID:113@jun.per.in.moodle.com/stable_master
SUMMARY:Quiz 1 (Quiz opens)
DESCRIPTION:
CLASS:PUBLIC
LAST-MODIFIED:20170524T061122Z
DTSTAMP:20170530T081124Z
DTSTART;VALUE=DATE:20170508
DTEND;VALUE=DATE:20170509
CATEGORIES:tc_0_2
END:VEVENT
END:VCALENDAR
