BEGIN:VCALENDAR
METHOD:PUBLISH
PRODID:-//Moodle Pty Ltd//NONSGML Moodle Version 2017070700//EN
VERSION:2.0
BEGIN:VEVENT
UID:3@localhost/stable_master
SUMMARY:assignment
DESCRIPTION:asd [1]\n\n\n\nLinks:\n------\n[1] http://localhost/stable_mast
	er/mod/quiz/view.php?id=5\n
	
CLASS:PUBLIC
LAST-MODIFIED:20170713T082619Z
DTSTAMP:20170713T082641Z
DTSTART:20170814T033000Z
DTEND:20170814T033000Z
CATEGORIES:test
END:VEVENT
END:VCALENDAR
