BEGIN:VCALENDAR
PRODID:-//Google Inc//Google Calendar 70.9054//EN
VERSION:2.0
CALSCALE:GREGORIAN
METHOD:PUBLISH
X-WR-CALNAME:test@email.com
X-WR-TIMEZONE:Australia/Perth
BEGIN:VTIMEZONE
TZID:Australia/Perth
X-LIC-LOCATION:Australia/Perth
BEGIN:STANDARD
TZOFFSETFROM:+0800
TZOFFSETTO:+0800
TZNAME:AWST
DTSTART:19700101T000000
END:STANDARD
END:VTIMEZONE
BEGIN:VEVENT
DTSTART:20180603T053000Z
DTEND:20180603T063000Z
DTSTAMP:20180623T031954Z
ORGANIZER;CN=test@email.com:mailto:test@email.com
UID:12345677
CREATED:20180426T061034Z
DESCRIPTION:
LAST-MODIFIED:20180426T065508Z
LOCATION:Some text location
SEQUENCE:0
STATUS:CONFIRMED
SUMMARY:Test 1 - Has location
TRANSP:OPAQUE
END:VEVENT
BEGIN:VEVENT
DTSTART:20180604T080000Z
DTEND:20180604T090000Z
DTSTAMP:20180623T031954Z
ORGANIZER;CN=test@email.com:mailto:test@email.com
UID:1234566
CREATED:20180429T225946Z
DESCRIPTION:No location
LAST-MODIFIED:20180604T144506Z
LOCATION:
SEQUENCE:0
STATUS:CONFIRMED
SUMMARY:Test 2 - Empty location
TRANSP:OPAQUE
END:VEVENT
END:VCALENDAR