BEGIN:VCALENDAR
PRODID:-//Eveoh//Eveoh iCalExporter 1.3//EN
VERSION:2.0
METHOD:PUBLISH
CALSCALE:GREGORIAN
X-WR-TIMEZONE:Europe/London
X-WR-CALNAME:Moodle Test Calendar
X-WR-CALDESC:Moodle Test Calendar
BEGIN:VTIMEZONE
TZID:Europe/London
TZURL:http://tzurl.org/zoneinfo-outlook/Europe/London
X-LIC-LOCATION:Europe/London
BEGIN:DAYLIGHT
TZOFFSETFROM:+0000
TZOFFSETTO:+0100
TZNAME:BST
DTSTART:19700329T000000
RRULE:FREQ=YEARLY;BYMONTH=3;BYDAY=-1SU
END:DAYLIGHT
BEGIN:STANDARD
TZOFFSETFROM:+0100
TZOFFSETTO:+0000
TZNAME:GMT
DTSTART:19701025T010000
RRULE:FREQ=YEARLY;BYMONTH=10;BYDAY=-1SU
END:STANDARD
END:VTIMEZONE
BEGIN:VEVENT
DTSTAMP:20180713T165355Z
DTSTART;TZID=Europe/London:20180702T100000
DTEND;TZID=Europe/London:20180702T110000
SUMMARY:Just a sample event
LOCATION:Meeting room A
STATUS:CONFIRMED
SEQUENCE:0
CREATED:20180713T165355Z
LAST-MODIFIED:20180713T165355Z
UID:2017!91F75FFC484026A0232A8477EC4B9E4-20180702@test.york.ac.uk
 
DESCRIPTION:This event makes Moodle crash on import.
TRANSP:OPAQUE
END:VEVENT
END:VCALENDAR
