BEGIN:VCALENDAR
PRODID:-//Google Inc//Google Calendar 70.9054//EN
VERSION:2.0
CALSCALE:GREGORIAN
METHOD:PUBLISH
X-WR-TIMEZONE:Australia/Perth
BEGIN:VTIMEZONE
TZID:Australia/Perth
X-LIC-LOCATION:Australia/Perth
BEGIN:STANDARD
TZOFFSETFROM:+0800
TZOFFSETTO:+0800
TZNAME:AWST
DTSTART:19700101T000000
END:STANDARD
END:VTIMEZONE
BEGIN:VEVENT
DTSTART:20190408T090000Z
DTEND:20190408T100000Z
DTSTAMP:20190408T085837Z
UID:MDL65262@tracker.moodle.org
CREATED:20190408T085827Z
DESCRIPTION:This is an event
LAST-MODIFIED:20190408T085827Z
LOCATION: location with starting whitespace
SEQUENCE:0
STATUS:CONFIRMED
SUMMARY:Event with location leading whitespace.
TRANSP:OPAQUE
END:VEVENT
END:VCALENDAR