BEGIN:VCALENDAR
METHOD:PUBLISH
PRODID:-//Moodle Pty Ltd//NONSGML Moodle Version 2018051705.12//EN
VERSION:2.0
BEGIN:VEVENT
UID:3074@[cut]
SUMMARY:A &amp\; B &gt\; C &lt\; "D"
DESCRIPTION:
CLASS:PUBLIC
LAST-MODIFIED:20190510T000641Z
DTSTAMP:20190510T075658Z
DTSTART:20190510T000600Z
DTEND:20190510T000600Z
END:VEVENT
BEGIN:VEVENT
UID:3091@[cut]
SUMMARY:190509 Category event 01
DESCRIPTION:
CLASS:PUBLIC
LAST-MODIFIED:20190510T074946Z
DTSTAMP:20190510T075658Z
DTSTART:20190515T074700Z
DTEND:20190515T074700Z
END:VEVENT
BEGIN:VEVENT
UID:3092@[cut]
SUMMARY:190509 Category event 02
DESCRIPTION:
CLASS:PUBLIC
LAST-MODIFIED:20190510T075011Z
DTSTAMP:20190510T075658Z
DTSTART:20190516T074900Z
DTEND:20190516T074900Z
END:VEVENT
BEGIN:VEVENT
UID:3093@[cut]
SUMMARY:190509 Category event 03
DESCRIPTION:
CLASS:PUBLIC
LAST-MODIFIED:20190510T075030Z
DTSTAMP:20190510T075658Z
DTSTART:20190517T075000Z
DTEND:20190517T075000Z
END:VEVENT
END:VCALENDAR