BEGIN:VCALENDAR
METHOD:PUBLISH
PRODID:-//Moodle Pty Ltd//NONSGML Moodle Version 2019053000//EN
VERSION:2.0
BEGIN:VEVENT
UID:303@localhost/stable_master
SUMMARY:test
DESCRIPTION:
CLASS:PUBLIC
LAST-MODIFIED:20190604T020917Z
DTSTAMP:20190604T095345Z
DTSTART:20190604T020900Z
DTEND:20190604T020900Z
END:VEVENT
BEGIN:VEVENT
UID:305@localhost/stable_master
SUMMARY:test 1
DESCRIPTION:
CLASS:PUBLIC
LAST-MODIFIED:20190604T022204Z
DTSTAMP:20190604T095345Z
DTSTART:20190604T022100Z
DTEND:20190604T022100Z
END:VEVENT
BEGIN:VEVENT
UID:307@localhost/stable_master
SUMMARY:test3
DESCRIPTION:
CLASS:PUBLIC
LAST-MODIFIED:20190604T022233Z
DTSTAMP:20190604T095345Z
DTSTART:20190604T022200Z
DTEND:20190604T022200Z
END:VEVENT
BEGIN:VEVENT
UID:308@localhost/stable_master
SUMMARY:test4
DESCRIPTION:
CLASS:PUBLIC
LAST-MODIFIED:20190604T022249Z
DTSTAMP:20190604T095345Z
DTSTART:20190604T022200Z
DTEND:20190604T022200Z
END:VEVENT
BEGIN:VEVENT
UID:309@localhost/stable_master
SUMMARY:test
DESCRIPTION:
CLASS:PUBLIC
LAST-MODIFIED:20190604T022302Z
DTSTAMP:20190604T095345Z
DTSTART:20190604T022200Z
DTEND:20190604T022200Z
END:VEVENT
END:VCALENDAR
