BEGIN:VCALENDAR
METHOD:PUBLISH
PRODID:-//Moodle Pty Ltd//NONSGML Moodle Version 2019052002//EN
VERSION:2.0
BEGIN:VEVENT
UID:151935036@moodle.org
SUMMARY:Moodle 3.8 scheduled release
DESCRIPTION:Moodle 3.8\, 3.7.3\, 3.6.7 and 3.5.9 are scheduled to be releas
	ed on the second Monday of November 2019.\n
	
CLASS:PUBLIC
LAST-MODIFIED:20190708T151511Z
DTSTAMP:20191025T143541Z
DTSTART:20191111T010000Z
DTEND:20191111T010000Z
CATEGORIES:Global events
END:VEVENT
BEGIN:VEVENT
UID:153671071@moodle.org
SUMMARY:MoodleMoot Global 2019
DESCRIPTION:18 - 20 November 2019\n\nLocation: Barcelona\, Spain\n\nWebsite
	: MoodleMoot Global 2019 [1]\n\nTag: #MootGlobal19\n\n\nLinks:\n------\n[1]
	 https://moodlemoot.org/mootglobal19\n
	
CLASS:PUBLIC
LAST-MODIFIED:20190708T152800Z
DTSTAMP:20191025T143541Z
DTSTART:20191118T080000Z
DTEND:20191120T160000Z
CATEGORIES:Global events
END:VEVENT
BEGIN:VEVENT
UID:155949501@moodle.org
SUMMARY:MoodleMoot Greece 2019
DESCRIPTION:28 - 29 November 2019\n\nLocation: Thessaloniki\, Greece\n\nWeb
	site: MoodleMoot Greece 2019 [1]\n\nTag: #MootGR19\n\n\nLinks:\n------\n[1]
	 https://moodlemoot.org/mootgr19/\n
	
CLASS:PUBLIC
LAST-MODIFIED:20191021T071116Z
DTSTAMP:20191025T143541Z
DTSTART:20191128T070000Z
DTEND:20191129T160000Z
CATEGORIES:Global events
END:VEVENT
END:VCALENDAR
