BEGIN:VCALENDAR
PRODID:-//Google Inc//Google Calendar 70.9054//EN
VERSION:2.0
CALSCALE:GREGORIAN
METHOD:PUBLISH
X-WR-TIMEZONE:UTC
BEGIN:VEVENT
DTSTART;VALUE=DATE:20200303
DTEND;VALUE=DATE:20200304
DTSTAMP:20200109T011251Z
UID:20200303_60o32o9m6so30c1g60o30dr56g@google.com
CLASS:PUBLIC
CREATED:20191211T001122Z
DESCRIPTION:Holiday or observance in: Alabama\, Arkansas\, California\, Col
 orado\, Maine\, Massachusetts\, Minnesota\, North Carolina\, Oklahoma\, Ten
 nessee\, Texas\, Utah\, Vermont\, Virginia
LAST-MODIFIED:20191211T001122Z
SEQUENCE:0
STATUS:CONFIRMED
SUMMARY:Super Tuesday (regional holiday)
TRANSP:TRANSPARENT
END:VEVENT
BEGIN:VEVENT
DTSTART;VALUE=DATE:20210215
DTEND;VALUE=DATE:20210216
DTSTAMP:20200109T011251Z
UID:20210215_60o30dr570o30c1g60o30dr56k@google.com
CLASS:PUBLIC
CREATED:20190522T232701Z
DESCRIPTION:Holiday or observance in: Alabama\, Alaska\, Arizona\, Arkansas
 \, California\, Colorado\, Connecticut\, District of Columbia\, Florida\, H
 awaii\, Idaho\, Illinois\, Maine\, Maryland\, Massachusetts\, Michigan\, Mi
 nnesota\, Mississippi\, Missouri\, Montana\, Nebraska\, Nevada\, New Hampsh
 ire\, New Jersey\, New York\, North Dakota\, Ohio\, Oklahoma\, Oregon\, Pen
 nsylvania\, South Carolina\, South Dakota\, Tennessee\, Texas\, Utah\, Verm
 ont\, Virginia\, Washington\, West Virginia\, Wyoming
LAST-MODIFIED:20190522T232701Z
SEQUENCE:0
STATUS:CONFIRMED
SUMMARY:Presidents' Day (regional holiday)
TRANSP:TRANSPARENT
END:VEVENT
BEGIN:VEVENT
DTSTART;VALUE=DATE:20200217
DTEND;VALUE=DATE:20200218
DTSTAMP:20200109T011251Z
UID:20200217_60o30dr570o30e1g60o30dr56g@google.com
CLASS:PUBLIC
CREATED:20190522T232701Z
DESCRIPTION:Holiday or observance in: Alabama\, Alaska\, Arizona\, Arkansas
 \, California\, Colorado\, Connecticut\, District of Columbia\, Florida\, H
 awaii\, Idaho\, Illinois\, Maine\, Maryland\, Massachusetts\, Michigan\, Mi
 nnesota\, Mississippi\, Missouri\, Montana\, Nebraska\, Nevada\, New Hampsh
 ire\, New Jersey\, New York\, North Dakota\, Ohio\, Oklahoma\, Oregon\, Pen
 nsylvania\, South Carolina\, South Dakota\, Tennessee\, Texas\, Utah\, Verm
 ont\, Virginia\, Washington\, West Virginia\, Wyoming
LAST-MODIFIED:20190522T232701Z
SEQUENCE:0
STATUS:CONFIRMED
SUMMARY:Presidents' Day (regional holiday)
TRANSP:TRANSPARENT
END:VEVENT
BEGIN:VEVENT
DTSTART;VALUE=DATE:20190218
DTEND;VALUE=DATE:20190219
DTSTAMP:20200109T011251Z
UID:20190218_60o30dr570o30e1g60o30dr56c@google.com
CLASS:PUBLIC
CREATED:20190522T232701Z
DESCRIPTION:Holiday or observance in: Alabama\, Alaska\, Arizona\, Arkansas
 \, California\, Colorado\, Connecticut\, District of Columbia\, Florida\, H
 awaii\, Idaho\, Illinois\, Maine\, Maryland\, Massachusetts\, Michigan\, Mi
 nnesota\, Mississippi\, Missouri\, Montana\, Nebraska\, Nevada\, New Hampsh
 ire\, New Jersey\, New York\, North Dakota\, Ohio\, Oklahoma\, Oregon\, Pen
 nsylvania\, South Carolina\, South Dakota\, Tennessee\, Texas\, Utah\, Verm
 ont\, Virginia\, Washington\, West Virginia\, Wyoming
LAST-MODIFIED:20190522T232701Z
SEQUENCE:0
STATUS:CONFIRMED
SUMMARY:Presidents' Day (regional holiday)
TRANSP:TRANSPARENT
END:VEVENT
BEGIN:VEVENT
DTSTART;VALUE=DATE:20211011
DTEND;VALUE=DATE:20211012
DTSTAMP:20200109T011251Z
UID:20211011_60o30dr5c8o38e1g60o30dr56k@google.com
CLASS:PUBLIC
CREATED:20190522T232701Z
DESCRIPTION:Holiday or observance in: Alabama\, Arizona\, Colorado\, Connec
 ticut\, District of Columbia\, Georgia\, Idaho\, Illinois\, Indiana\, Iowa\
 , Kansas\, Kentucky\, Louisiana\, Maine\, Maryland\, Massachusetts\, Missis
 sippi\, Missouri\, Montana\, Nebraska\, New Hampshire\, New Jersey\, New Yo
 rk\, North Carolina\, Ohio\, Oklahoma\, Pennsylvania\, Rhode Island\, South
  Carolina\, Tennessee\, Utah\, Virginia\, West Virginia\, Wisconsin
LAST-MODIFIED:20190522T232701Z
SEQUENCE:0
STATUS:CONFIRMED
SUMMARY:Columbus Day (regional holiday)
TRANSP:TRANSPARENT
END:VEVENT
BEGIN:VEVENT
DTSTART;VALUE=DATE:20201012
DTEND;VALUE=DATE:20201013
DTSTAMP:20200109T011251Z
UID:20201012_60o30dr5c8o38e1g60o30dr56g@google.com
CLASS:PUBLIC
CREATED:20190522T232701Z
DESCRIPTION:Holiday or observance in: Alabama\, Arizona\, Colorado\, Connec
 ticut\, District of Columbia\, Georgia\, Idaho\, Illinois\, Indiana\, Iowa\
 , Kansas\, Kentucky\, Louisiana\, Maine\, Maryland\, Massachusetts\, Missis
 sippi\, Missouri\, Montana\, Nebraska\, New Hampshire\, New Jersey\, New Yo
 rk\, North Carolina\, Ohio\, Oklahoma\, Pennsylvania\, Rhode Island\, South
  Carolina\, Tennessee\, Utah\, Virginia\, West Virginia\, Wisconsin
LAST-MODIFIED:20190522T232701Z
SEQUENCE:0
STATUS:CONFIRMED
SUMMARY:Columbus Day (regional holiday)
TRANSP:TRANSPARENT
END:VEVENT
BEGIN:VEVENT
DTSTART;VALUE=DATE:20191014
DTEND;VALUE=DATE:20191015
DTSTAMP:20200109T011251Z
UID:20191014_60o30dr5c8o38e1g60o30dr56c@google.com
CLASS:PUBLIC
CREATED:20190522T232701Z
DESCRIPTION:Holiday or observance in: Alabama\, Arizona\, Colorado\, Connec
 ticut\, District of Columbia\, Georgia\, Idaho\, Illinois\, Indiana\, Iowa\
 , Kansas\, Kentucky\, Louisiana\, Maine\, Maryland\, Massachusetts\, Missis
 sippi\, Missouri\, Montana\, Nebraska\, New Hampshire\, New Jersey\, New Yo
 rk\, North Carolina\, Ohio\, Oklahoma\, Pennsylvania\, Rhode Island\, South
  Carolina\, Tennessee\, Utah\, Virginia\, West Virginia\, Wisconsin
LAST-MODIFIED:20190522T232701Z
SEQUENCE:0
STATUS:CONFIRMED
SUMMARY:Columbus Day (regional holiday)
TRANSP:TRANSPARENT
END:VEVENT
BEGIN:VEVENT
DTSTART;VALUE=DATE:20211111
DTEND;VALUE=DATE:20211112
DTSTAMP:20200109T011251Z
UID:20211111_60o30dr568o30c1g60o30dr56k@google.com
CLASS:PUBLIC
CREATED:20190221T134628Z
DESCRIPTION:
LAST-MODIFIED:20190221T134628Z
SEQUENCE:0
STATUS:CONFIRMED
SUMMARY:Veterans Day
TRANSP:TRANSPARENT
END:VEVENT
BEGIN:VEVENT
DTSTART;VALUE=DATE:20201111
DTEND;VALUE=DATE:20201112
DTSTAMP:20200109T011251Z
UID:20201111_60o30dr568o30c1g60o30dr56g@google.com
CLASS:PUBLIC
CREATED:20190221T134628Z
DESCRIPTION:
LAST-MODIFIED:20190221T134628Z
SEQUENCE:0
STATUS:CONFIRMED
SUMMARY:Veterans Day
TRANSP:TRANSPARENT
END:VEVENT
BEGIN:VEVENT
DTSTART;VALUE=DATE:20191111
DTEND;VALUE=DATE:20191112
DTSTAMP:20200109T011251Z
UID:20191111_60o30dr568o30c1g60o30dr56c@google.com
CLASS:PUBLIC
CREATED:20190221T134628Z
DESCRIPTION:
LAST-MODIFIED:20190221T134628Z
SEQUENCE:0
STATUS:CONFIRMED
SUMMARY:Veterans Day
TRANSP:TRANSPARENT
END:VEVENT
BEGIN:VEVENT
DTSTART;VALUE=DATE:20210214
DTEND;VALUE=DATE:20210215
DTSTAMP:20200109T011251Z
UID:20210214_60o30dr46so30c1g60o30dr56k@google.com
CLASS:PUBLIC
CREATED:20190221T134628Z
DESCRIPTION:
LAST-MODIFIED:20190221T134628Z
SEQUENCE:0
STATUS:CONFIRMED
SUMMARY:Valentine's Day
TRANSP:TRANSPARENT
END:VEVENT
BEGIN:VEVENT
DTSTART;VALUE=DATE:20200214
DTEND;VALUE=DATE:20200215
DTSTAMP:20200109T011251Z
UID:20200214_60o30dr46so30c1g60o30dr56g@google.com
CLASS:PUBLIC
CREATED:20190221T134628Z
DESCRIPTION:
LAST-MODIFIED:20190221T134628Z
SEQUENCE:0
STATUS:CONFIRMED
SUMMARY:Valentine's Day
TRANSP:TRANSPARENT
END:VEVENT
BEGIN:VEVENT
DTSTART;VALUE=DATE:20190214
DTEND;VALUE=DATE:20190215
DTSTAMP:20200109T011251Z
UID:20190214_60o30dr46so30c1g60o30dr56c@google.com
CLASS:PUBLIC
CREATED:20190221T134628Z
DESCRIPTION:
LAST-MODIFIED:20190221T134628Z
SEQUENCE:0
STATUS:CONFIRMED
SUMMARY:Valentine's Day
TRANSP:TRANSPARENT
END:VEVENT
BEGIN:VEVENT
DTSTART;VALUE=DATE:20211125
DTEND;VALUE=DATE:20211126
DTSTAMP:20200109T011251Z
UID:20211125_60o30dr5cco30e1g60o30dr56k@google.com
CLASS:PUBLIC
CREATED:20190221T134628Z
DESCRIPTION:
LAST-MODIFIED:20190221T134628Z
SEQUENCE:0
STATUS:CONFIRMED
SUMMARY:Thanksgiving Day
TRANSP:TRANSPARENT
END:VEVENT
BEGIN:VEVENT
DTSTART;VALUE=DATE:20201126
DTEND;VALUE=DATE:20201127
DTSTAMP:20200109T011251Z
UID:20201126_60o30dr5cco30e1g60o30dr56g@google.com
CLASS:PUBLIC
CREATED:20190221T134628Z
DESCRIPTION:
LAST-MODIFIED:20190221T134628Z
SEQUENCE:0
STATUS:CONFIRMED
SUMMARY:Thanksgiving Day
TRANSP:TRANSPARENT
END:VEVENT
BEGIN:VEVENT
DTSTART;VALUE=DATE:20191128
DTEND;VALUE=DATE:20191129
DTSTAMP:20200109T011251Z
UID:20191128_60o30dr5cco30e1g60o30dr56c@google.com
CLASS:PUBLIC
CREATED:20190221T134628Z
DESCRIPTION:
LAST-MODIFIED:20190221T134628Z
SEQUENCE:0
STATUS:CONFIRMED
SUMMARY:Thanksgiving Day
TRANSP:TRANSPARENT
END:VEVENT
BEGIN:VEVENT
DTSTART;VALUE=DATE:20210415
DTEND;VALUE=DATE:20210416
DTSTAMP:20200109T011251Z
UID:20210415_60o30dr66ko30c1g60o30dr56k@google.com
CLASS:PUBLIC
CREATED:20190221T134628Z
DESCRIPTION:
LAST-MODIFIED:20190221T134628Z
SEQUENCE:0
STATUS:CONFIRMED
SUMMARY:Tax Day
TRANSP:TRANSPARENT
END:VEVENT
BEGIN:VEVENT
DTSTART;VALUE=DATE:20200415
DTEND;VALUE=DATE:20200416
DTSTAMP:20200109T011251Z
UID:20200415_60o30dr66ko30c1g60o30dr56g@google.com
CLASS:PUBLIC
CREATED:20190221T134628Z
DESCRIPTION:
LAST-MODIFIED:20190221T134628Z
SEQUENCE:0
STATUS:CONFIRMED
SUMMARY:Tax Day
TRANSP:TRANSPARENT
END:VEVENT
BEGIN:VEVENT
DTSTART;VALUE=DATE:20190415
DTEND;VALUE=DATE:20190416
DTSTAMP:20200109T011251Z
UID:20190415_60o30dr66ko30c1g60o30dr56c@google.com
CLASS:PUBLIC
CREATED:20190221T134628Z
DESCRIPTION:
LAST-MODIFIED:20190221T134628Z
SEQUENCE:0
STATUS:CONFIRMED
SUMMARY:Tax Day
TRANSP:TRANSPARENT
END:VEVENT
BEGIN:VEVENT
DTSTART;VALUE=DATE:20210317
DTEND;VALUE=DATE:20210318
DTSTAMP:20200109T011251Z
UID:20210317_60o30dr4c8o30c1g60o30dr56k@google.com
CLASS:PUBLIC
CREATED:20190221T134628Z
DESCRIPTION:
LAST-MODIFIED:20190221T134628Z
SEQUENCE:0
STATUS:CONFIRMED
SUMMARY:St. Patrick's Day
TRANSP:TRANSPARENT
END:VEVENT
BEGIN:VEVENT
DTSTART;VALUE=DATE:20200317
DTEND;VALUE=DATE:20200318
DTSTAMP:20200109T011251Z
UID:20200317_60o30dr4c8o30c1g60o30dr56g@google.com
CLASS:PUBLIC
CREATED:20190221T134628Z
DESCRIPTION:
LAST-MODIFIED:20190221T134628Z
SEQUENCE:0
STATUS:CONFIRMED
SUMMARY:St. Patrick's Day
TRANSP:TRANSPARENT
END:VEVENT
BEGIN:VEVENT
DTSTART;VALUE=DATE:20190317
DTEND;VALUE=DATE:20190318
DTSTAMP:20200109T011251Z
UID:20190317_60o30dr4c8o30c1g60o30dr56c@google.com
CLASS:PUBLIC
CREATED:20190221T134628Z
DESCRIPTION:
LAST-MODIFIED:20190221T134628Z
SEQUENCE:0
STATUS:CONFIRMED
SUMMARY:St. Patrick's Day
TRANSP:TRANSPARENT
END:VEVENT
BEGIN:VEVENT
DTSTART;VALUE=DATE:20211231
DTEND;VALUE=DATE:20220101
DTSTAMP:20200109T011251Z
UID:20211231_60o30dr4coo30c1g60o30dr56k@google.com
CLASS:PUBLIC
CREATED:20190221T134628Z
DESCRIPTION:
LAST-MODIFIED:20190221T134628Z
SEQUENCE:0
STATUS:CONFIRMED
SUMMARY:New Year's Eve
TRANSP:TRANSPARENT
END:VEVENT
BEGIN:VEVENT
DTSTART;VALUE=DATE:20201231
DTEND;VALUE=DATE:20210101
DTSTAMP:20200109T011251Z
UID:20201231_60o30dr4coo30c1g60o30dr56g@google.com
CLASS:PUBLIC
CREATED:20190221T134628Z
DESCRIPTION:
LAST-MODIFIED:20190221T134628Z
SEQUENCE:0
STATUS:CONFIRMED
SUMMARY:New Year's Eve
TRANSP:TRANSPARENT
END:VEVENT
BEGIN:VEVENT
DTSTART;VALUE=DATE:20191231
DTEND;VALUE=DATE:20200101
DTSTAMP:20200109T011251Z
UID:20191231_60o30dr4coo30c1g60o30dr56c@google.com
CLASS:PUBLIC
CREATED:20190221T134628Z
DESCRIPTION:
LAST-MODIFIED:20190221T134628Z
SEQUENCE:0
STATUS:CONFIRMED
SUMMARY:New Year's Eve
TRANSP:TRANSPARENT
END:VEVENT
BEGIN:VEVENT
DTSTART;VALUE=DATE:20211231
DTEND;VALUE=DATE:20220101
DTSTAMP:20200109T011251Z
UID:20211231_60o30dr46oo30e1g60o30dr56o@google.com
CLASS:PUBLIC
CREATED:20190221T134628Z
DESCRIPTION:
LAST-MODIFIED:20190221T134628Z
SEQUENCE:0
STATUS:CONFIRMED
SUMMARY:New Year's Day observed
TRANSP:TRANSPARENT
END:VEVENT
BEGIN:VEVENT
DTSTART;VALUE=DATE:20210101
DTEND;VALUE=DATE:20210102
DTSTAMP:20200109T011251Z
UID:20210101_60o30dr46oo30c1g60o30dr56k@google.com
CLASS:PUBLIC
CREATED:20190221T134628Z
DESCRIPTION:
LAST-MODIFIED:20190221T134628Z
SEQUENCE:0
STATUS:CONFIRMED
SUMMARY:New Year's Day
TRANSP:TRANSPARENT
END:VEVENT
BEGIN:VEVENT
DTSTART;VALUE=DATE:20200101
DTEND;VALUE=DATE:20200102
DTSTAMP:20200109T011251Z
UID:20200101_60o30dr46oo30c1g60o30dr56g@google.com
CLASS:PUBLIC
CREATED:20190221T134628Z
DESCRIPTION:
LAST-MODIFIED:20190221T134628Z
SEQUENCE:0
STATUS:CONFIRMED
SUMMARY:New Year's Day
TRANSP:TRANSPARENT
END:VEVENT
BEGIN:VEVENT
DTSTART;VALUE=DATE:20190101
DTEND;VALUE=DATE:20190102
DTSTAMP:20200109T011251Z
UID:20190101_60o30dr46oo30c1g60o30dr56c@google.com
CLASS:PUBLIC
CREATED:20190221T134628Z
DESCRIPTION:
LAST-MODIFIED:20190221T134628Z
SEQUENCE:0
STATUS:CONFIRMED
SUMMARY:New Year's Day
TRANSP:TRANSPARENT
END:VEVENT
BEGIN:VEVENT
DTSTART;VALUE=DATE:20210509
DTEND;VALUE=DATE:20210510
DTSTAMP:20200109T011251Z
UID:20210509_60o30dr560o30e1g60o30dr56k@google.com
CLASS:PUBLIC
CREATED:20190221T134628Z
DESCRIPTION:
LAST-MODIFIED:20190221T134628Z
SEQUENCE:0
STATUS:CONFIRMED
SUMMARY:Mother's Day
TRANSP:TRANSPARENT
END:VEVENT
BEGIN:VEVENT
DTSTART;VALUE=DATE:20200510
DTEND;VALUE=DATE:20200511
DTSTAMP:20200109T011251Z
UID:20200510_60o30dr560o30e1g60o30dr56g@google.com
CLASS:PUBLIC
CREATED:20190221T134628Z
DESCRIPTION:
LAST-MODIFIED:20190221T134628Z
SEQUENCE:0
STATUS:CONFIRMED
SUMMARY:Mother's Day
TRANSP:TRANSPARENT
END:VEVENT
BEGIN:VEVENT
DTSTART;VALUE=DATE:20190512
DTEND;VALUE=DATE:20190513
DTSTAMP:20200109T011251Z
UID:20190512_60o30dr560o30e1g60o30dr56c@google.com
CLASS:PUBLIC
CREATED:20190221T134628Z
DESCRIPTION:
LAST-MODIFIED:20190221T134628Z
SEQUENCE:0
STATUS:CONFIRMED
SUMMARY:Mother's Day
TRANSP:TRANSPARENT
END:VEVENT
BEGIN:VEVENT
DTSTART;VALUE=DATE:20210531
DTEND;VALUE=DATE:20210601
DTSTAMP:20200109T011251Z
UID:20210531_60o30dr56co30e1g60o30dr56k@google.com
CLASS:PUBLIC
CREATED:20190221T134628Z
DESCRIPTION:
LAST-MODIFIED:20190221T134628Z
SEQUENCE:0
STATUS:CONFIRMED
SUMMARY:Memorial Day
TRANSP:TRANSPARENT
END:VEVENT
BEGIN:VEVENT
DTSTART;VALUE=DATE:20200525
DTEND;VALUE=DATE:20200526
DTSTAMP:20200109T011251Z
UID:20200525_60o30dr56co30c1g60o30dr56g@google.com
CLASS:PUBLIC
CREATED:20190221T134628Z
DESCRIPTION:
LAST-MODIFIED:20190221T134628Z
SEQUENCE:0
STATUS:CONFIRMED
SUMMARY:Memorial Day
TRANSP:TRANSPARENT
END:VEVENT
BEGIN:VEVENT
DTSTART;VALUE=DATE:20190527
DTEND;VALUE=DATE:20190528
DTSTAMP:20200109T011251Z
UID:20190527_60o30dr56co30e1g60o30dr56c@google.com
CLASS:PUBLIC
CREATED:20190221T134628Z
DESCRIPTION:
LAST-MODIFIED:20190221T134628Z
SEQUENCE:0
STATUS:CONFIRMED
SUMMARY:Memorial Day
TRANSP:TRANSPARENT
END:VEVENT
BEGIN:VEVENT
DTSTART;VALUE=DATE:20210118
DTEND;VALUE=DATE:20210119
DTSTAMP:20200109T011251Z
UID:20210118_60o30dr56oo30e1g60o30dr56k@google.com
CLASS:PUBLIC
CREATED:20190221T134628Z
DESCRIPTION:
LAST-MODIFIED:20190221T134628Z
SEQUENCE:0
STATUS:CONFIRMED
SUMMARY:Martin Luther King Jr. Day
TRANSP:TRANSPARENT
END:VEVENT
BEGIN:VEVENT
DTSTART;VALUE=DATE:20200120
DTEND;VALUE=DATE:20200121
DTSTAMP:20200109T011251Z
UID:20200120_60o30dr56oo30e1g60o30dr56g@google.com
CLASS:PUBLIC
CREATED:20190221T134628Z
DESCRIPTION:
LAST-MODIFIED:20190221T134628Z
SEQUENCE:0
STATUS:CONFIRMED
SUMMARY:Martin Luther King Jr. Day
TRANSP:TRANSPARENT
END:VEVENT
BEGIN:VEVENT
DTSTART;VALUE=DATE:20190121
DTEND;VALUE=DATE:20190122
DTSTAMP:20200109T011251Z
UID:20190121_60o30dr56oo30e1g60o30dr56c@google.com
CLASS:PUBLIC
CREATED:20190221T134628Z
DESCRIPTION:
LAST-MODIFIED:20190221T134628Z
SEQUENCE:0
STATUS:CONFIRMED
SUMMARY:Martin Luther King Jr. Day
TRANSP:TRANSPARENT
END:VEVENT
BEGIN:VEVENT
DTSTART;VALUE=DATE:20210906
DTEND;VALUE=DATE:20210907
DTSTAMP:20200109T011251Z
UID:20210906_60o30dr5c4o30e1g60o30dr56k@google.com
CLASS:PUBLIC
CREATED:20190221T134628Z
DESCRIPTION:
LAST-MODIFIED:20190221T134628Z
SEQUENCE:0
STATUS:CONFIRMED
SUMMARY:Labor Day
TRANSP:TRANSPARENT
END:VEVENT
BEGIN:VEVENT
DTSTART;VALUE=DATE:20200907
DTEND;VALUE=DATE:20200908
DTSTAMP:20200109T011251Z
UID:20200907_60o30dr5c4o30e1g60o30dr56g@google.com
CLASS:PUBLIC
CREATED:20190221T134628Z
DESCRIPTION:
LAST-MODIFIED:20190221T134628Z
SEQUENCE:0
STATUS:CONFIRMED
SUMMARY:Labor Day
TRANSP:TRANSPARENT
END:VEVENT
BEGIN:VEVENT
DTSTART;VALUE=DATE:20190902
DTEND;VALUE=DATE:20190903
DTSTAMP:20200109T011251Z
UID:20190902_60o30dr5c4o30e1g60o30dr56c@google.com
CLASS:PUBLIC
CREATED:20190221T134628Z
DESCRIPTION:
LAST-MODIFIED:20190221T134628Z
SEQUENCE:0
STATUS:CONFIRMED
SUMMARY:Labor Day
TRANSP:TRANSPARENT
END:VEVENT
BEGIN:VEVENT
DTSTART;VALUE=DATE:20210705
DTEND;VALUE=DATE:20210706
DTSTAMP:20200109T011251Z
UID:20210705_60o30dr470o30e1g60o30dr56k@google.com
CLASS:PUBLIC
CREATED:20190221T134628Z
DESCRIPTION:
LAST-MODIFIED:20190221T134628Z
SEQUENCE:0
STATUS:CONFIRMED
SUMMARY:Independence Day observed
TRANSP:TRANSPARENT
END:VEVENT
BEGIN:VEVENT
DTSTART;VALUE=DATE:20200703
DTEND;VALUE=DATE:20200704
DTSTAMP:20200109T011251Z
UID:20200703_60o30dr470o30e1g60o30dr56g@google.com
CLASS:PUBLIC
CREATED:20190221T134628Z
DESCRIPTION:
LAST-MODIFIED:20190221T134628Z
SEQUENCE:0
STATUS:CONFIRMED
SUMMARY:Independence Day observed
TRANSP:TRANSPARENT
END:VEVENT
BEGIN:VEVENT
DTSTART;VALUE=DATE:20210704
DTEND;VALUE=DATE:20210705
DTSTAMP:20200109T011251Z
UID:20210704_60o30dr470o30c1g60o30dr56k@google.com
CLASS:PUBLIC
CREATED:20190221T134628Z
DESCRIPTION:
LAST-MODIFIED:20190221T134628Z
SEQUENCE:0
STATUS:CONFIRMED
SUMMARY:Independence Day
TRANSP:TRANSPARENT
END:VEVENT
BEGIN:VEVENT
DTSTART;VALUE=DATE:20200704
DTEND;VALUE=DATE:20200705
DTSTAMP:20200109T011251Z
UID:20200704_60o30dr470o30c1g60o30dr56g@google.com
CLASS:PUBLIC
CREATED:20190221T134628Z
DESCRIPTION:
LAST-MODIFIED:20190221T134628Z
SEQUENCE:0
STATUS:CONFIRMED
SUMMARY:Independence Day
TRANSP:TRANSPARENT
END:VEVENT
BEGIN:VEVENT
DTSTART;VALUE=DATE:20190704
DTEND;VALUE=DATE:20190705
DTSTAMP:20200109T011251Z
UID:20190704_60o30dr470o30c1g60o30dr56c@google.com
CLASS:PUBLIC
CREATED:20190221T134628Z
DESCRIPTION:
LAST-MODIFIED:20190221T134628Z
SEQUENCE:0
STATUS:CONFIRMED
SUMMARY:Independence Day
TRANSP:TRANSPARENT
END:VEVENT
BEGIN:VEVENT
DTSTART;VALUE=DATE:20211031
DTEND;VALUE=DATE:20211101
DTSTAMP:20200109T011251Z
UID:20211031_60o30dr4cko30c1g60o30dr56k@google.com
CLASS:PUBLIC
CREATED:20190221T134628Z
DESCRIPTION:
LAST-MODIFIED:20190221T134628Z
SEQUENCE:0
STATUS:CONFIRMED
SUMMARY:Halloween
TRANSP:TRANSPARENT
END:VEVENT
BEGIN:VEVENT
DTSTART;VALUE=DATE:20201031
DTEND;VALUE=DATE:20201101
DTSTAMP:20200109T011251Z
UID:20201031_60o30dr4cko30c1g60o30dr56g@google.com
CLASS:PUBLIC
CREATED:20190221T134628Z
DESCRIPTION:
LAST-MODIFIED:20190221T134628Z
SEQUENCE:0
STATUS:CONFIRMED
SUMMARY:Halloween
TRANSP:TRANSPARENT
END:VEVENT
BEGIN:VEVENT
DTSTART;VALUE=DATE:20191031
DTEND;VALUE=DATE:20191101
DTSTAMP:20200109T011251Z
UID:20191031_60o30dr4cko30c1g60o30dr56c@google.com
CLASS:PUBLIC
CREATED:20190221T134628Z
DESCRIPTION:
LAST-MODIFIED:20190221T134628Z
SEQUENCE:0
STATUS:CONFIRMED
SUMMARY:Halloween
TRANSP:TRANSPARENT
END:VEVENT
BEGIN:VEVENT
DTSTART;VALUE=DATE:20210620
DTEND;VALUE=DATE:20210621
DTSTAMP:20200109T011251Z
UID:20210620_60o30dr564o30e1g60o30dr56k@google.com
CLASS:PUBLIC
CREATED:20190221T134628Z
DESCRIPTION:
LAST-MODIFIED:20190221T134628Z
SEQUENCE:0
STATUS:CONFIRMED
SUMMARY:Father's Day
TRANSP:TRANSPARENT
END:VEVENT
BEGIN:VEVENT
DTSTART;VALUE=DATE:20200621
DTEND;VALUE=DATE:20200622
DTSTAMP:20200109T011251Z
UID:20200621_60o30dr564o30e1g60o30dr56g@google.com
CLASS:PUBLIC
CREATED:20190221T134628Z
DESCRIPTION:
LAST-MODIFIED:20190221T134628Z
SEQUENCE:0
STATUS:CONFIRMED
SUMMARY:Father's Day
TRANSP:TRANSPARENT
END:VEVENT
BEGIN:VEVENT
DTSTART;VALUE=DATE:20190616
DTEND;VALUE=DATE:20190617
DTSTAMP:20200109T011251Z
UID:20190616_60o30dr564o30e1g60o30dr56c@google.com
CLASS:PUBLIC
CREATED:20190221T134628Z
DESCRIPTION:
LAST-MODIFIED:20190221T134628Z
SEQUENCE:0
STATUS:CONFIRMED
SUMMARY:Father's Day
TRANSP:TRANSPARENT
END:VEVENT
BEGIN:VEVENT
DTSTART;VALUE=DATE:20201103
DTEND;VALUE=DATE:20201104
DTSTAMP:20200109T011251Z
UID:20201103_60o30dr66go30e1g60o30dr56g@google.com
CLASS:PUBLIC
CREATED:20190221T134628Z
DESCRIPTION:
LAST-MODIFIED:20190221T134628Z
SEQUENCE:0
STATUS:CONFIRMED
SUMMARY:Election Day
TRANSP:TRANSPARENT
END:VEVENT
BEGIN:VEVENT
DTSTART;VALUE=DATE:20210404
DTEND;VALUE=DATE:20210405
DTSTAMP:20200109T011251Z
UID:20210404_60o30dr660o30c1g60o30dr56k@google.com
CLASS:PUBLIC
CREATED:20190221T134628Z
DESCRIPTION:
LAST-MODIFIED:20190221T134628Z
SEQUENCE:0
STATUS:CONFIRMED
SUMMARY:Easter Sunday
TRANSP:TRANSPARENT
END:VEVENT
BEGIN:VEVENT
DTSTART;VALUE=DATE:20200412
DTEND;VALUE=DATE:20200413
DTSTAMP:20200109T011251Z
UID:20200412_60o30dr660o30c1g60o30dr56g@google.com
CLASS:PUBLIC
CREATED:20190221T134628Z
DESCRIPTION:
LAST-MODIFIED:20190221T134628Z
SEQUENCE:0
STATUS:CONFIRMED
SUMMARY:Easter Sunday
TRANSP:TRANSPARENT
END:VEVENT
BEGIN:VEVENT
DTSTART;VALUE=DATE:20190421
DTEND;VALUE=DATE:20190422
DTSTAMP:20200109T011251Z
UID:20190421_60o30dr660o30c1g60o30dr56c@google.com
CLASS:PUBLIC
CREATED:20190221T134628Z
DESCRIPTION:
LAST-MODIFIED:20190221T134628Z
SEQUENCE:0
STATUS:CONFIRMED
SUMMARY:Easter Sunday
TRANSP:TRANSPARENT
END:VEVENT
BEGIN:VEVENT
DTSTART;VALUE=DATE:20210405
DTEND;VALUE=DATE:20210406
DTSTAMP:20200109T011251Z
UID:20210405_60o30dr664o30c1g60o30dr56k@google.com
CLASS:PUBLIC
CREATED:20190221T134628Z
DESCRIPTION:
LAST-MODIFIED:20190221T134628Z
SEQUENCE:0
STATUS:CONFIRMED
SUMMARY:Easter Monday
TRANSP:TRANSPARENT
END:VEVENT
BEGIN:VEVENT
DTSTART;VALUE=DATE:20200413
DTEND;VALUE=DATE:20200414
DTSTAMP:20200109T011251Z
UID:20200413_60o30dr664o30c1g60o30dr56g@google.com
CLASS:PUBLIC
CREATED:20190221T134628Z
DESCRIPTION:
LAST-MODIFIED:20190221T134628Z
SEQUENCE:0
STATUS:CONFIRMED
SUMMARY:Easter Monday
TRANSP:TRANSPARENT
END:VEVENT
BEGIN:VEVENT
DTSTART;VALUE=DATE:20190422
DTEND;VALUE=DATE:20190423
DTSTAMP:20200109T011251Z
UID:20190422_60o30dr664o30c1g60o30dr56c@google.com
CLASS:PUBLIC
CREATED:20190221T134628Z
DESCRIPTION:
LAST-MODIFIED:20190221T134628Z
SEQUENCE:0
STATUS:CONFIRMED
SUMMARY:Easter Monday
TRANSP:TRANSPARENT
END:VEVENT
BEGIN:VEVENT
DTSTART;VALUE=DATE:20210314
DTEND;VALUE=DATE:20210315
DTSTAMP:20200109T011251Z
UID:20210314_60o30c9o60o30dpj6sqj0dr56k@google.com
CLASS:PUBLIC
CREATED:20190221T134628Z
DESCRIPTION:
LAST-MODIFIED:20190221T134628Z
SEQUENCE:0
STATUS:CONFIRMED
SUMMARY:Daylight Saving Time starts
TRANSP:TRANSPARENT
END:VEVENT
BEGIN:VEVENT
DTSTART;VALUE=DATE:20200308
DTEND;VALUE=DATE:20200309
DTSTAMP:20200109T011251Z
UID:20200308_60o30c9o60o30dpj6sqj0dr56g@google.com
CLASS:PUBLIC
CREATED:20190221T134628Z
DESCRIPTION:
LAST-MODIFIED:20190221T134628Z
SEQUENCE:0
STATUS:CONFIRMED
SUMMARY:Daylight Saving Time starts
TRANSP:TRANSPARENT
END:VEVENT
BEGIN:VEVENT
DTSTART;VALUE=DATE:20190310
DTEND;VALUE=DATE:20190311
DTSTAMP:20200109T011251Z
UID:20190310_60o30c9o60o30dpj6sqj0dr56c@google.com
CLASS:PUBLIC
CREATED:20190221T134628Z
DESCRIPTION:
LAST-MODIFIED:20190221T134628Z
SEQUENCE:0
STATUS:CONFIRMED
SUMMARY:Daylight Saving Time starts
TRANSP:TRANSPARENT
END:VEVENT
BEGIN:VEVENT
DTSTART;VALUE=DATE:20211107
DTEND;VALUE=DATE:20211108
DTSTAMP:20200109T011251Z
UID:20211107_60o30c9o64o30dpj6sqj0dr56k@google.com
CLASS:PUBLIC
CREATED:20190221T134628Z
DESCRIPTION:
LAST-MODIFIED:20190221T134628Z
SEQUENCE:0
STATUS:CONFIRMED
SUMMARY:Daylight Saving Time ends
TRANSP:TRANSPARENT
END:VEVENT
BEGIN:VEVENT
DTSTART;VALUE=DATE:20201101
DTEND;VALUE=DATE:20201102
DTSTAMP:20200109T011251Z
UID:20201101_60o30c9o64o30dpj6sqj0dr56g@google.com
CLASS:PUBLIC
CREATED:20190221T134628Z
DESCRIPTION:
LAST-MODIFIED:20190221T134628Z
SEQUENCE:0
STATUS:CONFIRMED
SUMMARY:Daylight Saving Time ends
TRANSP:TRANSPARENT
END:VEVENT
BEGIN:VEVENT
DTSTART;VALUE=DATE:20191103
DTEND;VALUE=DATE:20191104
DTSTAMP:20200109T011251Z
UID:20191103_60o30c9o64o30dpj6sqj0dr56c@google.com
CLASS:PUBLIC
CREATED:20190221T134628Z
DESCRIPTION:
LAST-MODIFIED:20190221T134628Z
SEQUENCE:0
STATUS:CONFIRMED
SUMMARY:Daylight Saving Time ends
TRANSP:TRANSPARENT
END:VEVENT
BEGIN:VEVENT
DTSTART;VALUE=DATE:20210505
DTEND;VALUE=DATE:20210506
DTSTAMP:20200109T011251Z
UID:20210505_60o30dr474o30c1g60o30dr56k@google.com
CLASS:PUBLIC
CREATED:20190221T134628Z
DESCRIPTION:
LAST-MODIFIED:20190221T134628Z
SEQUENCE:0
STATUS:CONFIRMED
SUMMARY:Cinco de Mayo
TRANSP:TRANSPARENT
END:VEVENT
BEGIN:VEVENT
DTSTART;VALUE=DATE:20200505
DTEND;VALUE=DATE:20200506
DTSTAMP:20200109T011251Z
UID:20200505_60o30dr474o30c1g60o30dr56g@google.com
CLASS:PUBLIC
CREATED:20190221T134628Z
DESCRIPTION:
LAST-MODIFIED:20190221T134628Z
SEQUENCE:0
STATUS:CONFIRMED
SUMMARY:Cinco de Mayo
TRANSP:TRANSPARENT
END:VEVENT
BEGIN:VEVENT
DTSTART;VALUE=DATE:20190505
DTEND;VALUE=DATE:20190506
DTSTAMP:20200109T011251Z
UID:20190505_60o30dr474o30c1g60o30dr56c@google.com
CLASS:PUBLIC
CREATED:20190221T134628Z
DESCRIPTION:
LAST-MODIFIED:20190221T134628Z
SEQUENCE:0
STATUS:CONFIRMED
SUMMARY:Cinco de Mayo
TRANSP:TRANSPARENT
END:VEVENT
BEGIN:VEVENT
DTSTART;VALUE=DATE:20211224
DTEND;VALUE=DATE:20211225
DTSTAMP:20200109T011251Z
UID:20211224_60o30dr56ko30c1g60o30dr56k@google.com
CLASS:PUBLIC
CREATED:20190221T134628Z
DESCRIPTION:
LAST-MODIFIED:20190221T134628Z
SEQUENCE:0
STATUS:CONFIRMED
SUMMARY:Christmas Eve
TRANSP:TRANSPARENT
END:VEVENT
BEGIN:VEVENT
DTSTART;VALUE=DATE:20201224
DTEND;VALUE=DATE:20201225
DTSTAMP:20200109T011251Z
UID:20201224_60o30dr56ko30c1g60o30dr56g@google.com
CLASS:PUBLIC
CREATED:20190221T134628Z
DESCRIPTION:
LAST-MODIFIED:20190221T134628Z
SEQUENCE:0
STATUS:CONFIRMED
SUMMARY:Christmas Eve
TRANSP:TRANSPARENT
END:VEVENT
BEGIN:VEVENT
DTSTART;VALUE=DATE:20191224
DTEND;VALUE=DATE:20191225
DTSTAMP:20200109T011251Z
UID:20191224_60o30dr56ko30c1g60o30dr56c@google.com
CLASS:PUBLIC
CREATED:20190221T134628Z
DESCRIPTION:
LAST-MODIFIED:20190221T134628Z
SEQUENCE:0
STATUS:CONFIRMED
SUMMARY:Christmas Eve
TRANSP:TRANSPARENT
END:VEVENT
BEGIN:VEVENT
DTSTART;VALUE=DATE:20211224
DTEND;VALUE=DATE:20211225
DTSTAMP:20200109T011251Z
UID:20211224_60o30dr56go30e1g60o30dr56k@google.com
CLASS:PUBLIC
CREATED:20190221T134628Z
DESCRIPTION:
LAST-MODIFIED:20190221T134628Z
SEQUENCE:0
STATUS:CONFIRMED
SUMMARY:Christmas Day observed
TRANSP:TRANSPARENT
END:VEVENT
BEGIN:VEVENT
DTSTART;VALUE=DATE:20211225
DTEND;VALUE=DATE:20211226
DTSTAMP:20200109T011251Z
UID:20211225_60o30dr56go30c1g60o30dr56k@google.com
CLASS:PUBLIC
CREATED:20190221T134628Z
DESCRIPTION:
LAST-MODIFIED:20190221T134628Z
SEQUENCE:0
STATUS:CONFIRMED
SUMMARY:Christmas Day
TRANSP:TRANSPARENT
END:VEVENT
BEGIN:VEVENT
DTSTART;VALUE=DATE:20201225
DTEND;VALUE=DATE:20201226
DTSTAMP:20200109T011251Z
UID:20201225_60o30dr56go30c1g60o30dr56g@google.com
CLASS:PUBLIC
CREATED:20190221T134628Z
DESCRIPTION:
LAST-MODIFIED:20190221T134628Z
SEQUENCE:0
STATUS:CONFIRMED
SUMMARY:Christmas Day
TRANSP:TRANSPARENT
END:VEVENT
BEGIN:VEVENT
DTSTART;VALUE=DATE:20191225
DTEND;VALUE=DATE:20191226
DTSTAMP:20200109T011251Z
UID:20191225_60o30dr56go30c1g60o30dr56c@google.com
CLASS:PUBLIC
CREATED:20190221T134628Z
DESCRIPTION:
LAST-MODIFIED:20190221T134628Z
SEQUENCE:0
STATUS:CONFIRMED
SUMMARY:Christmas Day
TRANSP:TRANSPARENT
END:VEVENT
BEGIN:VEVENT
DTSTART;VALUE=DATE:20211126
DTEND;VALUE=DATE:20211127
DTSTAMP:20200109T011251Z
UID:20211126_60o30dr5cgo30e1g60o30dr56k@google.com
CLASS:PUBLIC
CREATED:20190221T134628Z
DESCRIPTION:
LAST-MODIFIED:20190221T134628Z
SEQUENCE:0
STATUS:CONFIRMED
SUMMARY:Black Friday
TRANSP:TRANSPARENT
END:VEVENT
BEGIN:VEVENT
DTSTART;VALUE=DATE:20201127
DTEND;VALUE=DATE:20201128
DTSTAMP:20200109T011251Z
UID:20201127_60o30dr5cgo30e1g60o30dr56g@google.com
CLASS:PUBLIC
CREATED:20190221T134628Z
DESCRIPTION:
LAST-MODIFIED:20190221T134628Z
SEQUENCE:0
STATUS:CONFIRMED
SUMMARY:Black Friday
TRANSP:TRANSPARENT
END:VEVENT
BEGIN:VEVENT
DTSTART;VALUE=DATE:20191129
DTEND;VALUE=DATE:20191130
DTSTAMP:20200109T011251Z
UID:20191129_60o30dr5cgo30e1g60o30dr56c@google.com
CLASS:PUBLIC
CREATED:20190221T134628Z
DESCRIPTION:
LAST-MODIFIED:20190221T134628Z
SEQUENCE:0
STATUS:CONFIRMED
SUMMARY:Black Friday
TRANSP:TRANSPARENT
END:VEVENT
END:VCALENDAR
